BEGIN:VCALENDAR
VERSION:2.0
PRODID:-//hacksw/handcal//NONSGML v1.0//EN
BEGIN:VEVENT
UID:03d5a3dc59a8f29d655d72b93f7195ab
DTSTAMP:20260420T222411Z

DTSTART:20110104T190000
DTEND:20110109T190000
SUMMARY:Фестиваль христианской песни "Для Друзей"
DESCRIPTION:Краткая информация:\nНаша молодежь решила устроить на Рождество евангельский фестиваль у себя в городе(Лениногорск), а потом нас поддержали многие из церквей Поволжья, а так же к нам присоединились еще 2 команды молодежи из Октябрьска и Азнакаево. И все мы решили провести фестиваль по трем городам. Объединив усилия, на рождественские каникулы (с 1.01.11 до 10.01.11) собираемся осуществить наше желание прославить и послужить этим Господу! Просьба молиться,появились трудности, Диавол атакует.\nС Рождеством Христовым!!!\nФестиваль пройдет в 3 городах:\n4 января в Азнакаево,\n6 января в Лениногорске,\n9 января в Октябрьске.\nЕсли кто захочет прийти или поддержать, оставляю координаты для справок:\n79375759584, 8(85595)25153\nЗаранее благодарим за все...\n 

X-ALT-DESC;FMTTYPE=text/html:<!DOCTYPE HTML PUBLIC "-//W3C//DTD HTML 3.2//EN">\n<HTML>\n<HEAD>\n<META NAME="Generator" CONTENT="MS Exchange Server version 08.00.0681.000">\n<TITLE></TITLE>\n</HEAD>\n<BODY>\n<!-- Converted from text/rtf format -->\n\n<p>Краткая информация:</p><br /><p>Наша молодежь решила устроить на Рождество евангельский фестиваль у себя в городе(Лениногорск), а потом нас поддержали многие из церквей Поволжья, а так же к нам присоединились еще 2 команды молодежи из Октябрьска и Азнакаево. И все мы решили провести фестиваль по трем городам. Объединив усилия, на рождественские каникулы (с 1.01.11 до 10.01.11) собираемся осуществить наше желание прославить и послужить этим Господу! Просьба молиться,появились трудности, Диавол атакует.</p><br /><p>С Рождеством Христовым!!!</p><br /><p>Фестиваль пройдет в 3 городах:</p><br /><p>4 января в Азнакаево,</p><br /><p>6 января в Лениногорске,</p><br /><p>9 января в Октябрьске.</p><br /><p>Если кто захочет прийти или поддержать, оставляю координаты для справок:</p><br /><p>79375759584, 8(85595)25153</p><br /><p>Заранее благодарим за все...</p><br /><p> </p>\n\n</BODY>\n</HTML>

LOCATION:Азнакаево, Лениногорск, Октябрьск
END:VEVENT

END:VCALENDAR
