BEGIN:VCALENDAR
VERSION:2.0
PRODID:-//hacksw/handcal//NONSGML v1.0//EN
BEGIN:VEVENT
UID:751b4e81dbfabca7d9292f6a84a205d7
DTSTAMP:20260421T004245Z

DTSTART:20110115T213000
DTEND:20110115T230000
SUMMARY:Концерт Академического симфонического оркестра
DESCRIPTION:КРЕМЛЕВСКИЙ КОНЦЕРТНЫЙ ЗАЛ\n\nСолисты - лауреаты международных конкурсов Денис КОЖУХИН (фортепиано/Россия-Германия), Владислав КОЖУХИН (фортепиано/Россия-Испания) Дирижер - лауреат международных конкурсов Максим ЕМЕЛЬЯНЫЧЕВ (Нижний Новгород-Москва) \nПрограмма: ШОПЕН \n\nЦена билетов: от 100 до 300 рублей\n\nПриобрести билеты можно самостоятельно в кассе филармонии или заказать у меня (пишите в личку).\n\nКонцерты Максима Емельянычева в филармонии: самый молодой нижегородский дирижер делает классику современной.\n\nМаксим - выпускник Нижегородского музыкального колледжа им. Балакирева, а теперь студент Московской консерватории им. Чайковского. Будучи совсем юным, но уже подающим большие надежды студентом колледжа, он встал за дирижерский пульт нижегородского симфонического оркестра, а сейчас вернулся в родной город, чтобы подарить нижегородцам два вечера замечательной музыки.\nСтоит отметить, что каждый концерт Максима - это не просто приятная атмосфера, но и огромный заряд позитива от самого дирижера, что делает его не только отличным академическим музыкантом, но и любимцем публики, в том числе и молодежи.\n\nКожухин Денис Викторович родился 2 июля 1986 года в г. Горьком (ныне Нижний Новгород) в музыкальной семье. В 2000—2007 гг. Денис Кожухин учился в Высшей школе музыки королевы Софии в Испании.В 2001 году Кожухин завоевал I премию на VII Международном конкурсе в Андорре.29 мая 2010 года музыкант стал победителем международного конкурса среди пианистов имени королевы Елизаветы.

X-ALT-DESC;FMTTYPE=text/html:<!DOCTYPE HTML PUBLIC "-//W3C//DTD HTML 3.2//EN">\n<HTML>\n<HEAD>\n<META NAME="Generator" CONTENT="MS Exchange Server version 08.00.0681.000">\n<TITLE></TITLE>\n</HEAD>\n<BODY>\n<!-- Converted from text/rtf format -->\n\n<p><span style="color: #000000; font-family: tahoma, arial, verdana, sans-serif, 'Lucida Sans'; line-height: normal; font-size: 11px;">КРЕМЛЕВСКИЙ КОНЦЕРТНЫЙ ЗАЛ<br /><br />Солисты - лауреаты международных конкурсов Денис КОЖУХИН (фортепиано/Россия-Германия), Владислав КОЖУХИН (фортепиано/Россия-Испания) Дирижер - лауреат международных конкурсов Максим ЕМЕЛЬЯНЫЧЕВ (Нижний Новгород-Москва) <br />Программа: ШОПЕН <br /><br />Цена билетов: от 100 до 300 рублей<br /><br />Приобрести билеты можно самостоятельно в кассе филармонии или заказать у меня (пишите в личку).<br /><br />Концерты Максима Емельянычева в филармонии: самый молодой нижегородский дирижер делает классику современной.<br /><br />Максим - выпускник Нижегородского музыкального колледжа им. Балакирева, а теперь студент Московской консерватории им. Чайковского. Будучи совсем юным, но уже подающим большие надежды студентом колледжа, он встал за дирижерский пульт нижегородского симфонического оркестра, а сейчас вернулся в родной город, чтобы подарить нижегородцам два вечера замечательной музыки.<br />Стоит отметить, что каждый концерт Максима - это не просто приятная атмосфера, но и огромный заряд позитива от самого дирижера, что делает его не только отличным академическим музыкантом, но и любимцем публики, в том числе и молодежи.<br /><br />Кожухин Денис Викторович родился 2 июля 1986 года в г. Горьком (ныне Нижний Новгород) в музыкальной семье. В 2000—2007 гг. Денис Кожухин учился в Высшей школе музыки королевы Софии в Испании.В 2001 году Кожухин завоевал I премию на VII Международном конкурсе в Андорре.29 мая 2010 года музыкант стал победителем международного конкурса среди пианистов имени королевы Елизаветы.</span></p>\n\n</BODY>\n</HTML>

LOCATION:Нижний Новгород, Россия
END:VEVENT

END:VCALENDAR
