BEGIN:VCALENDAR
VERSION:2.0
PRODID:-//hacksw/handcal//NONSGML v1.0//EN
BEGIN:VEVENT
UID:3e9d116d96567777bf9211d6037e8109
DTSTAMP:20260420T213945Z

DTSTART:20110416T220000
DTEND:20110417T010000
SUMMARY:Всеукраинский тур хип-хоп группы Gospel People Ministry!
DESCRIPTION: \nВсеукраинский тур хип-хоп группы Gospel People Ministry!!! GP Ministry в Симферополе!!!\n15 апреля - концерт - 18:00\n16 апреля - творческий вечер - 16:00\nг. Симферополь, ул. Субхи, 1, (ДК ВВ МВД)\nhttp://vsehristiane.com/index.php?option=com_community&view=videos&task=video&groupid=101&videoid=2004&Itemid=65\nGP Ministry тур "VICTORY" в Симферополе ( http://vkontakte.ru/event24657636 ) \nСостоится презентация нового альбома группы GP Ministry...\nЦентр Культуры ВВ МВД Украины, ул. Субхи, 1\nВнимание! Концерт переноситься на 16 апреля субботу, в 18:00 начало. Не забудь пригласить

X-ALT-DESC;FMTTYPE=text/html:<!DOCTYPE HTML PUBLIC "-//W3C//DTD HTML 3.2//EN">\n<HTML>\n<HEAD>\n<META NAME="Generator" CONTENT="MS Exchange Server version 08.00.0681.000">\n<TITLE></TITLE>\n</HEAD>\n<BODY>\n<!-- Converted from text/rtf format -->\n\n<p><span style="font-family: Arial, Helvetica, sans-serif; color: #000000;"> </span></p><br /><p style="margin-top: 0px; margin-right: 0px; margin-bottom: 10px; margin-left: 0px; outline-width: 0px; outline-style: initial; outline-color: initial; font-size: 12px; background-image: initial; background-attachment: initial; background-origin: initial; background-clip: initial; background-color: transparent; background-position: initial initial; background-repeat: initial initial; padding: 0px; border: 0px initial initial;"><span style="outline-width: 0px; outline-style: initial; outline-color: initial; font-size: 11px; background-image: initial; background-attachment: initial; background-origin: initial; background-clip: initial; background-color: transparent; font-family: tahoma, arial, verdana, sans-serif, 'Lucida Sans'; line-height: 14px; color: #000000; background-position: initial initial; background-repeat: initial initial; padding: 0px; margin: 0px; border: 0px initial initial;">Всеукраинский тур хип-хоп группы Gospel People Ministry!!! GP Ministry в Симферополе!!!<br />15 апреля - концерт - 18:00<br />16 апреля - творческий вечер - 16:00<br />г. Симферополь, ул. Субхи, 1, (ДК ВВ МВД)</span></p><br /><p style="margin-top: 0px; margin-right: 0px; margin-bottom: 10px; margin-left: 0px; outline-width: 0px; outline-style: initial; outline-color: initial; font-size: 12px; background-image: initial; background-attachment: initial; background-origin: initial; background-clip: initial; background-color: transparent; background-position: initial initial; background-repeat: initial initial; padding: 0px; border: 0px initial initial;"><span style="outline-width: 0px; outline-style: initial; outline-color: initial; font-size: 11px; background-image: initial; background-attachment: initial; background-origin: initial; background-clip: initial; background-color: transparent; font-family: tahoma, arial, verdana, sans-serif, 'Lucida Sans'; line-height: 14px; color: #000000; background-position: initial initial; background-repeat: initial initial; padding: 0px; margin: 0px; border: 0px initial initial;"><a href="index.php?option=com_community&view=videos&task=video&groupid=101&videoid=2004&Itemid=65" style="outline-width: initial; outline-style: none; outline-color: initial; font-size: 11px; background-image: initial; background-attachment: initial; background-origin: initial; background-clip: initial; background-color: transparent; cursor: pointer; text-decoration: none; color: #378adf; background-position: initial initial; background-repeat: initial initial; padding: 0px; margin: 0px; border: 0px initial initial;">http://vsehristiane.com/index.php?option=com_community&view=videos&task=video&groupid=101&videoid=2004&Itemid=65</a></span></p><br /><p><span style="font-family: tahoma, arial, verdana, sans-serif, 'Lucida Sans'; font-size: 11px; line-height: 17px; color: #000000;">GP Ministry тур "VICTORY" в Симферополе ( <a href="http://vkontakte.ru/event24657636" style="outline-width: initial; outline-style: none; outline-color: initial; font-size: 11px; cursor: pointer; text-decoration: none; color: #2b587a; padding: 0px; margin: 0px; border: 0px initial initial;">http://vkontakte.ru/event24657636</a> ) <br />Состоится презентация нового альбома группы GP Ministry...<br />Центр Культуры ВВ МВД Украины, ул. Субхи, 1<br />Внимание! Концерт переноситься на 16 апреля субботу, в 18:00 начало. Не забудь пригласить</span></p>\n\n</BODY>\n</HTML>

LOCATION:Крым,Симферополь!
END:VEVENT

END:VCALENDAR
