BEGIN:VCALENDAR
VERSION:2.0
PRODID:-//hacksw/handcal//NONSGML v1.0//EN
BEGIN:VEVENT
UID:7ea4fe3dab6bae226375ac3f89668ae4
DTSTAMP:20260420T231840Z

DTSTART:20110412T180000
DTEND:20110412T180000
SUMMARY:ПИСЬМО НЕ РОДИВШЕГОСЯ СЫНА
DESCRIPTION:\nПредставь себе, а если б я родился?\nТо жизнь твоя пошла б другим путём.\nХарактер твой, конечно б, изменился –\nВедь не одна теперь ты, а с дитём.\n\nУвидела б ты, мама, мои глазки,\nТочь-в-точь твои – печальные чуть-чуть.\nИ гладила б, рассказывая сказки,\nМне мягко ручки, ножки, мою грудь.\n\nУслышать ты смогла бы запах нежный –\nТак пах бы я, твой сын, твой милый сын.\nИ делать много дел, порой небрежно,\nЧтоб быть со мной, чтоб я НЕ ОДИН\n\nИ был бы сыном я тебе послушным,\nХоть сложности, волнения подчас\nСлучались бы. Но быть неравнодушной\nЯ знаю, ты смогла б, здесь и сейчас.\n\nИ, засыпая у моей кроватки,\nИ, чувствуя усталость, знаю я –\nМеня б любила ты и не украдкой,\nЗа жизнь мою бы Господа моля.\n\nКогда болел бы я, ты б замирала,\nТревогу в сердце за меня тая.\nИ всё б боялась сделать очень мало,\nВедь наша жизнь одна – твоя, моя.\n\nТы помогала мне бы разбираться\nПро суффиксы, Печорина, моря.\nИ чаще бы могла ты улыбаться\nНа милые каракули смотря.\n\nА коль случалось бы тебе сердиться,\nТы б принимала сторону мою.\nИ я бы мог всегда тобой гордиться,\nЛюбить тебя – защитницу свою.\n\nКогда б я вырос, то с твоей защитой\nЯ б стал красивым, сильным смельчаком.\nИ прикрывал тебя б в бою открытом\nСловами, позой, просто кулаком.\n\nИ я не мог не стать иным, родная,\nИ ты б гордилась мною навсегда.\nИ от меня подарки принимая,\nТы б забывала про свои года.\n\nИ, если б, в тот промозглый день весенний\nРешила б ты не слушать вся и всех,\nЯ б жизнь узнал в различных построениях,\nУзнал бы небо, птиц, весёлый смех.\n\nПочувствовал, как пахнет снег весною,\nУзнал бы боль отвергнутой любви,\nЦену победы над самим собою\nИ долгие прогулки до зари.\n\nВот ты идёшь по чавкающей грязи,\nВ руках платочек мокрый теребя.\nВедь мать твоя, используя все связи,\nМеня забрать решила у тебя.\n\nЗабрать совсем, чтоб ты одна осталась,\nЗабыв меня: вот был – и вот уж нет.\nЧтоб никогда с тобой не повстречались,\nЧтоб не узнал я, что такое свет.\n\nТы думаешь – тебе не будет больно,\nИ ты забудешь быстро обо мне.\nНо, знаешь мама, я вернусь невольно,\nТуда, где ты не ждёшь меня – во сне.\n\nТебе я буду сниться часто, мама,\nНо не затем, чтоб ты могла страдать.\nЯ просто был, я - есть, я - без обмана.\nИ это факт, который надо знать.\n\nМне очень жаль, что встреча не случилась,\nИ жизнь моя совсем не началась.\nКоль получилось то, что получилось,\nХочу тебе сказать на этот раз -\n\nНас много здесь таких, нас миллионы,\nИ я тебя, как мать свою молю:\n«Живите по любви и по закону,\nА я тебя прощаю и люблю!»\n \n 18/02/2010,

X-ALT-DESC;FMTTYPE=text/html:<!DOCTYPE HTML PUBLIC "-//W3C//DTD HTML 3.2//EN">\n<HTML>\n<HEAD>\n<META NAME="Generator" CONTENT="MS Exchange Server version 08.00.0681.000">\n<TITLE></TITLE>\n</HEAD>\n<BODY>\n<!-- Converted from text/rtf format -->\n\n<p><br />Представь себе, а если б я родился?<br />То жизнь твоя пошла б другим путём.<br />Характер твой, конечно б, изменился –<br />Ведь не одна теперь ты, а с дитём.<br /><br />Увидела б ты, мама, мои глазки,<br />Точь-в-точь твои – печальные чуть-чуть.<br />И гладила б, рассказывая сказки,<br />Мне мягко ручки, ножки, мою грудь.<br /><br />Услышать ты смогла бы запах нежный –<br />Так пах бы я, твой сын, твой милый сын.<br />И делать много дел, порой небрежно,<br />Чтоб быть со мной, чтоб я НЕ ОДИН<br /><br />И был бы сыном я тебе послушным,<br />Хоть сложности, волнения подчас<br />Случались бы. Но быть неравнодушной<br />Я знаю, ты смогла б, здесь и сейчас.<br /><br />И, засыпая у моей кроватки,<br />И, чувствуя усталость, знаю я –<br />Меня б любила ты и не украдкой,<br />За жизнь мою бы Господа моля.<br /><br />Когда болел бы я, ты б замирала,<br />Тревогу в сердце за меня тая.<br />И всё б боялась сделать очень мало,<br />Ведь наша жизнь одна – твоя, моя.<br /><br />Ты помогала мне бы разбираться<br />Про суффиксы, Печорина, моря.<br />И чаще бы могла ты улыбаться<br />На милые каракули смотря.<br /><br />А коль случалось бы тебе сердиться,<br />Ты б принимала сторону мою.<br />И я бы мог всегда тобой гордиться,<br />Любить тебя – защитницу свою.<br /><br />Когда б я вырос, то с твоей защитой<br />Я б стал красивым, сильным смельчаком.<br />И прикрывал тебя б в бою открытом<br />Словами, позой, просто кулаком.<br /><br />И я не мог не стать иным, родная,<br />И ты б гордилась мною навсегда.<br />И от меня подарки принимая,<br />Ты б забывала про свои года.<br /><br />И, если б, в тот промозглый день весенний<br />Решила б ты не слушать вся и всех,<br />Я б жизнь узнал в различных построениях,<br />Узнал бы небо, птиц, весёлый смех.<br /><br />Почувствовал, как пахнет снег весною,<br />Узнал бы боль отвергнутой любви,<br />Цену победы над самим собою<br />И долгие прогулки до зари.<br /><br />Вот ты идёшь по чавкающей грязи,<br />В руках платочек мокрый теребя.<br />Ведь мать твоя, используя все связи,<br />Меня забрать решила у тебя.<br /><br />Забрать совсем, чтоб ты одна осталась,<br />Забыв меня: вот был – и вот уж нет.<br />Чтоб никогда с тобой не повстречались,<br />Чтоб не узнал я, что такое свет.<br /><br />Ты думаешь – тебе не будет больно,<br />И ты забудешь быстро обо мне.<br />Но, знаешь мама, я вернусь невольно,<br />Туда, где ты не ждёшь меня – во сне.<br /><br />Тебе я буду сниться часто, мама,<br />Но не затем, чтоб ты могла страдать.<br />Я просто был, я - есть, я - без обмана.<br />И это факт, который надо знать.<br /><br />Мне очень жаль, что встреча не случилась,<br />И жизнь моя совсем не началась.<br />Коль получилось то, что получилось,<br />Хочу тебе сказать на этот раз -<br /><br />Нас много здесь таких, нас миллионы,<br />И я тебя, как мать свою молю:<br />«Живите по любви и по закону,<br />А я тебя прощаю и люблю!»<br /> <br /> 18/02/2010,</p>\n\n</BODY>\n</HTML>

LOCATION:АЛЕКСАНДРИЯ УКРАИНА
END:VEVENT

END:VCALENDAR
