BEGIN:VCALENDAR
VERSION:2.0
PRODID:-//hacksw/handcal//NONSGML v1.0//EN
BEGIN:VEVENT
UID:4258e0f115e3bbfafa5b6e21f0e71508
DTSTAMP:20260421T004015Z

DTSTART:20110412T190000
DTEND:20110412T190000
SUMMARY:ТЫ МНЕ БОГОМ БЫЛ ДАРОВАН
DESCRIPTION:\n\nТЫ МНЕ Богом был дарован,\n Я просила и-свершилось\nВ моей жизни это чудо -\nпоявился ты-сынок!\nИ теперь Творца молю я\nдни и ночи не  устанно\nЧтобы тоже в твоей жизни\nБыл во всем и всюду Бог\nЯ хочу, чтоб ты сыночек\nБыл счастливым очень - очень\nБлагодать чтобы Господня\nПребывала над тобой\nИ пусть милость не оставит\nТебя Божия сегодня\nДа хранит тебя Спаситель\nИ пребудет пусть с тобой\nМне печаль твоя понятна,\nРадости твои делю я.\nРечь твоя пока не внятна,\nНо с тобою говорю я\nРазделяю твои боли,\nЯ забрать бы их хотела\nНе могу, не в моей воле\nИ прошу у Бога смело\nТы храни его Спаситель,\nПод покровом темной ночи\nИ в день ясный его жизни\nЧто задумал то сверши\nПусть он знает твое Имя\nО, небесный Искупитель\nНа руках Своих пронзенных\nЕго имя напиши!                    30.12.2009г.\n\n

X-ALT-DESC;FMTTYPE=text/html:<!DOCTYPE HTML PUBLIC "-//W3C//DTD HTML 3.2//EN">\n<HTML>\n<HEAD>\n<META NAME="Generator" CONTENT="MS Exchange Server version 08.00.0681.000">\n<TITLE></TITLE>\n</HEAD>\n<BODY>\n<!-- Converted from text/rtf format -->\n\n<div class="post_text_out"><br /><div id="post_text_413D6AEF189116A8" class="post_text"><br /><p>ТЫ МНЕ Богом был дарован,<br /> Я просила и-свершилось<br />В моей жизни это чудо -<br />появился ты-сынок!<br />И теперь Творца молю я<br />дни и ночи не  устанно<br />Чтобы тоже в твоей жизни<br />Был во всем и всюду Бог<br />Я хочу, чтоб ты сыночек<br />Был счастливым очень - очень<br />Благодать чтобы Господня<br />Пребывала над тобой<br />И пусть милость не оставит<br />Тебя Божия сегодня<br />Да хранит тебя Спаситель<br />И пребудет пусть с тобой<br />Мне печаль твоя понятна,<br />Радости твои делю я.<br />Речь твоя пока не внятна,<br />Но с тобою говорю я<br />Разделяю твои боли,<br />Я забрать бы их хотела<br />Не могу, не в моей воле<br />И прошу у Бога смело<br />Ты храни его Спаситель,<br />Под покровом темной ночи<br />И в день ясный его жизни<br />Что задумал то сверши<br />Пусть он знает твое Имя<br />О, небесный Искупитель<br />На руках Своих пронзенных<br />Его имя напиши!                    30.12.2009г.</p><br /></div><br /></div>\n\n</BODY>\n</HTML>

LOCATION:АЛЕКСАНДРИЯ УКРАИНА
END:VEVENT

END:VCALENDAR
