BEGIN:VCALENDAR
VERSION:2.0
PRODID:-//hacksw/handcal//NONSGML v1.0//EN
BEGIN:VEVENT
UID:38e0fe31453c7ff28d124ae43c34ae0d
DTSTAMP:20260421T003057Z

DTSTART:20110513T140000
DTEND:20110513T230000
SUMMARY:Конференция в г.Запорожье "Один Господь! Один народ! Одна Вера!"
DESCRIPTION:13-15 мая в Запорожье (Украина) церковь "Дом Хлеба" (Сакраменто) вместе с Христианскими церквями г. Запорожья планируют провести конференцию "Один Господь! Один народ! Одна Вера!". Данное мероприятие ставит перед собой цель объединить христиан всех конфессий, основываясь на Месте Писания "...доколе все придем в единство веры и познания Сына Божия" (Еф. 4:13). Спикерами конференция будут известные

X-ALT-DESC;FMTTYPE=text/html:<!DOCTYPE HTML PUBLIC "-//W3C//DTD HTML 3.2//EN">\n<HTML>\n<HEAD>\n<META NAME="Generator" CONTENT="MS Exchange Server version 08.00.0681.000">\n<TITLE></TITLE>\n</HEAD>\n<BODY>\n<!-- Converted from text/rtf format -->\n\n13-15 мая в Запорожье (Украина) церковь "Дом Хлеба" (Сакраменто) вместе с Христианскими церквями г. Запорожья планируют провести конференцию "Один Господь! Один народ! Одна Вера!". Данное мероприятие ставит перед собой цель объединить христиан всех конфессий, основываясь на Месте Писания "...доколе все придем в единство веры и познания Сына Божия" (Еф. 4:13). Спикерами конференция будут известные\n\n</BODY>\n</HTML>

LOCATION:Дворец Спорта "Юность" ул. Победы, 66. г.Запорожье, Украина
END:VEVENT

END:VCALENDAR
