BEGIN:VCALENDAR
VERSION:2.0
PRODID:-//hacksw/handcal//NONSGML v1.0//EN
BEGIN:VEVENT
UID:6999c26e84b096dca2e46e0de77ad664
DTSTAMP:20260421T065823Z

DTSTART:20110610T230000
DTEND:20110611T013000
SUMMARY: молодежная концертная программа "ВЫХОД ЕСТЬ"
DESCRIPTION:подробнее см. в видеозаписях)

X-ALT-DESC;FMTTYPE=text/html:<!DOCTYPE HTML PUBLIC "-//W3C//DTD HTML 3.2//EN">\n<HTML>\n<HEAD>\n<META NAME="Generator" CONTENT="MS Exchange Server version 08.00.0681.000">\n<TITLE></TITLE>\n</HEAD>\n<BODY>\n<!-- Converted from text/rtf format -->\n\n<p>подробнее см. в видеозаписях)</p>\n\n</BODY>\n</HTML>

LOCATION:БОБРУЙСК ,БЕЛАРУСЬ
END:VEVENT

END:VCALENDAR
