BEGIN:VCALENDAR
VERSION:2.0
PRODID:-//hacksw/handcal//NONSGML v1.0//EN
BEGIN:VEVENT
UID:054f17ccf3b8f2967bfd80d440373679
DTSTAMP:20260421T003744Z

DTSTART:20110622T010000
DTEND:20110622T010000
SUMMARY:1
DESCRIPTION: \n1" http://domimdoma.ru/ "\n2" http://pokupaistroi.ru/ "\n3" http://ssstroi.ru/ "\n4" http://stroyakaem.ru/ "\n5" http://vozvodivmeste.ru/ "\n6" http://bestmedic.info/ "\n7" http://boleznei-net.info/ "\n8" http://dokta.info/ "\n9" http://dr-smile.info/ "\n0" http://drevil.info/\n 

X-ALT-DESC;FMTTYPE=text/html:<!DOCTYPE HTML PUBLIC "-//W3C//DTD HTML 3.2//EN">\n<HTML>\n<HEAD>\n<META NAME="Generator" CONTENT="MS Exchange Server version 08.00.0681.000">\n<TITLE></TITLE>\n</HEAD>\n<BODY>\n<!-- Converted from text/rtf format -->\n\n<p> </p><br /><p>1" <a href="http://domimdoma.ru/">http://domimdoma.ru/</a> "</p><br /><p>2" <a href="http://pokupaistroi.ru/">http://pokupaistroi.ru/</a> "</p><br /><p>3" <a href="http://ssstroi.ru/">http://ssstroi.ru/</a> "</p><br /><p>4" <a href="http://stroyakaem.ru/">http://stroyakaem.ru/</a> "</p><br /><p>5" <a href="http://vozvodivmeste.ru/">http://vozvodivmeste.ru/</a> "</p><br /><p>6" <a href="http://bestmedic.info/">http://bestmedic.info/</a> "</p><br /><p>7" <a href="http://boleznei-net.info/">http://boleznei-net.info/</a> "</p><br /><p>8" <a href="http://dokta.info/">http://dokta.info/</a> "</p><br /><p>9" <a href="http://dr-smile.info/">http://dr-smile.info/</a> "</p><br /><p>0" <a href="http://drevil.info/">http://drevil.info/</a></p><br /><p> </p>\n\n</BODY>\n</HTML>

LOCATION:ee
END:VEVENT

END:VCALENDAR
