BEGIN:VCALENDAR
VERSION:2.0
PRODID:-//hacksw/handcal//NONSGML v1.0//EN
BEGIN:VEVENT
UID:a8e4f3503d75f5517df7b7eb144f9b26
DTSTAMP:20260421T054318Z

DTSTART:20110626T040000
DTEND:20110627T030000
SUMMARY:kk
DESCRIPTION:

X-ALT-DESC;FMTTYPE=text/html:<!DOCTYPE HTML PUBLIC "-//W3C//DTD HTML 3.2//EN">\n<HTML>\n<HEAD>\n<META NAME="Generator" CONTENT="MS Exchange Server version 08.00.0681.000">\n<TITLE></TITLE>\n</HEAD>\n<BODY>\n<!-- Converted from text/rtf format -->\n\n\n\n</BODY>\n</HTML>

LOCATION:moscow
END:VEVENT

END:VCALENDAR
