BEGIN:VCALENDAR
VERSION:2.0
PRODID:-//hacksw/handcal//NONSGML v1.0//EN
BEGIN:VEVENT
UID:1d0bf09900979e74210dc906eafc08dd
DTSTAMP:20260421T004200Z

DTSTART:20110807T120000
DTEND:20110815T030000
SUMMARY:Христианский молодежный лагерь "Дружба"
DESCRIPTION:

X-ALT-DESC;FMTTYPE=text/html:<!DOCTYPE HTML PUBLIC "-//W3C//DTD HTML 3.2//EN">\n<HTML>\n<HEAD>\n<META NAME="Generator" CONTENT="MS Exchange Server version 08.00.0681.000">\n<TITLE></TITLE>\n</HEAD>\n<BODY>\n<!-- Converted from text/rtf format -->\n\n\n\n</BODY>\n</HTML>

LOCATION:Лутугино,Украина
END:VEVENT

END:VCALENDAR
