BEGIN:VCALENDAR
VERSION:2.0
PRODID:-//hacksw/handcal//NONSGML v1.0//EN
BEGIN:VEVENT
UID:b8791c76765ac23f02bd9eca543b81a9
DTSTAMP:20260420T221754Z

DTSTART:20110710T040000
DTEND:20110722T030000
SUMMARY:Вся Слава Ему, Иисусу Христу.
DESCRIPTION:Вся Слава Ему, Иисусу Христу.
Исследуй писание, и сверяйте все с ним!

Бог посетил меня «страхом Божьим»

Утром в понедельник я
проснулся, и меня посетил Дух страха Божья. И дал Господь мне видения, « - Что, все люди земле
вместе собраны были, и подняли руки к небу, и взывают и кричат, молятся, каются
пред Богом и осознают свои грехи пред Богом. И было на небе отверстие, и из
того отверстия исходи

X-ALT-DESC;FMTTYPE=text/html:<!DOCTYPE HTML PUBLIC "-//W3C//DTD HTML 3.2//EN">\n<HTML>\n<HEAD>\n<META NAME="Generator" CONTENT="MS Exchange Server version 08.00.0681.000">\n<TITLE></TITLE>\n</HEAD>\n<BODY>\n<!-- Converted from text/rtf format -->\n\nВся Слава Ему, Иисусу Христу.
Исследуй писание, и сверяйте все с ним!

Бог посетил меня «страхом Божьим»

Утром в понедельник я
проснулся, и меня посетил Дух страха Божья. И дал Господь мне видения, « - Что, все люди земле
вместе собраны были, и подняли руки к небу, и взывают и кричат, молятся, каются
пред Богом и осознают свои грехи пред Богом. И было на небе отверстие, и из
того отверстия исходи\n\n</BODY>\n</HTML>

LOCATION:sky
END:VEVENT

END:VCALENDAR
