BEGIN:VCALENDAR
VERSION:2.0
PRODID:-//hacksw/handcal//NONSGML v1.0//EN
BEGIN:VEVENT
UID:6b2f46bb5ea92fdc27de6d91f72c88b5
DTSTAMP:20260421T004009Z

DTSTART:20110718T040000
DTEND:20110719T030000
SUMMARY:День рождения
DESCRIPTION:День рождения

X-ALT-DESC;FMTTYPE=text/html:<!DOCTYPE HTML PUBLIC "-//W3C//DTD HTML 3.2//EN">\n<HTML>\n<HEAD>\n<META NAME="Generator" CONTENT="MS Exchange Server version 08.00.0681.000">\n<TITLE></TITLE>\n</HEAD>\n<BODY>\n<!-- Converted from text/rtf format -->\n\n<h1 style="text-align: center;"><em><strong><span class="caption">День рождения</span></strong></em></h1>\n\n</BODY>\n</HTML>

LOCATION:Дома
END:VEVENT

END:VCALENDAR
