BEGIN:VCALENDAR
VERSION:2.0
PRODID:-//hacksw/handcal//NONSGML v1.0//EN
BEGIN:VEVENT
UID:4be75041a15402489d9b0bb12f364eb3
DTSTAMP:20260420T210107Z

DTSTART:20110813T160000
DTEND:20110814T030000
SUMMARY:Наша свадьба
DESCRIPTION:

X-ALT-DESC;FMTTYPE=text/html:<!DOCTYPE HTML PUBLIC "-//W3C//DTD HTML 3.2//EN">\n<HTML>\n<HEAD>\n<META NAME="Generator" CONTENT="MS Exchange Server version 08.00.0681.000">\n<TITLE></TITLE>\n</HEAD>\n<BODY>\n<!-- Converted from text/rtf format -->\n\n\n\n</BODY>\n</HTML>

LOCATION:Иваново,Россия
END:VEVENT

END:VCALENDAR
