BEGIN:VCALENDAR
VERSION:2.0
PRODID:-//hacksw/handcal//NONSGML v1.0//EN
BEGIN:VEVENT
UID:3f3c3e22bf6ea7545c460b1f38eef44f
DTSTAMP:20260421T105330Z

DTSTART:20111023T153000
DTEND:20111023T173000
SUMMARY:КАЖДОЕ ВОСКРЕСЕНЬЕ В 11.30 ОНЛАЙН ТРАНСЛЯЦИЯ БОГОСЛУЖЕНИЯ В ЦЕРКВИ "СЛОВО ЖИЗНИ"г.Донецк
DESCRIPTION:

X-ALT-DESC;FMTTYPE=text/html:<!DOCTYPE HTML PUBLIC "-//W3C//DTD HTML 3.2//EN">\n<HTML>\n<HEAD>\n<META NAME="Generator" CONTENT="MS Exchange Server version 08.00.0681.000">\n<TITLE></TITLE>\n</HEAD>\n<BODY>\n<!-- Converted from text/rtf format -->\n\n\n\n</BODY>\n</HTML>

LOCATION:ONLINE
END:VEVENT

END:VCALENDAR
