BEGIN:VCALENDAR
VERSION:2.0
PRODID:-//hacksw/handcal//NONSGML v1.0//EN
BEGIN:VEVENT
UID:85caebfafc93cfc51f36224aebccdb04
DTSTAMP:20260421T105146Z

DTSTART:20111030T153000
DTEND:20111030T173000
SUMMARY:КАЖДОЕ ВОСКРЕСЕНЬЕ В 11.30 ОНЛАЙН ТРАНСЛЯЦИЯ БОГОСЛУЖЕНИЯ В ЦЕРКВИ "СЛОВО ЖИЗНИ"г.Донецк
DESCRIPTION:День Израиля!!!

X-ALT-DESC;FMTTYPE=text/html:<!DOCTYPE HTML PUBLIC "-//W3C//DTD HTML 3.2//EN">\n<HTML>\n<HEAD>\n<META NAME="Generator" CONTENT="MS Exchange Server version 08.00.0681.000">\n<TITLE></TITLE>\n</HEAD>\n<BODY>\n<!-- Converted from text/rtf format -->\n\n<p><strong>День Израиля!!!</strong></p>\n\n</BODY>\n</HTML>

LOCATION:ONLINE
END:VEVENT

END:VCALENDAR
