BEGIN:VCALENDAR
VERSION:2.0
PRODID:-//hacksw/handcal//NONSGML v1.0//EN
BEGIN:VEVENT
UID:f71f9601fcbf177200f98fdce68f6249
DTSTAMP:20260421T040938Z

DTSTART:20111225T150000
DTEND:20111225T170000
SUMMARY:Рождество
DESCRIPTION:

X-ALT-DESC;FMTTYPE=text/html:<!DOCTYPE HTML PUBLIC "-//W3C//DTD HTML 3.2//EN">\n<HTML>\n<HEAD>\n<META NAME="Generator" CONTENT="MS Exchange Server version 08.00.0681.000">\n<TITLE></TITLE>\n</HEAD>\n<BODY>\n<!-- Converted from text/rtf format -->\n\n\n\n</BODY>\n</HTML>

LOCATION:Алматы, Казахстан, около ЦПКиО Церковь"Ата"
END:VEVENT

END:VCALENDAR
