BEGIN:VCALENDAR
VERSION:2.0
PRODID:-//hacksw/handcal//NONSGML v1.0//EN
BEGIN:VEVENT
UID:78e5a05029e346a111b91e1ce519cfc3
DTSTAMP:20260421T091802Z

DTSTART:20120101T003000
DTEND:20120101T043000
SUMMARY:31 декабря В 20.30 ОНЛАЙН ТРАНСЛЯЦИЯ НОВОГОДНЕГО БОГОСЛУЖЕНИЯ В ЦЕРКВИ "СЛОВО ЖИЗНИ"г.Донецк
DESCRIPTION:

X-ALT-DESC;FMTTYPE=text/html:<!DOCTYPE HTML PUBLIC "-//W3C//DTD HTML 3.2//EN">\n<HTML>\n<HEAD>\n<META NAME="Generator" CONTENT="MS Exchange Server version 08.00.0681.000">\n<TITLE></TITLE>\n</HEAD>\n<BODY>\n<!-- Converted from text/rtf format -->\n\n\n\n</BODY>\n</HTML>

LOCATION:ONLINE
END:VEVENT

END:VCALENDAR
