BEGIN:VCALENDAR
VERSION:2.0
PRODID:-//hacksw/handcal//NONSGML v1.0//EN
BEGIN:VEVENT
UID:100fa13c1faa794372128243ecdab4f3
DTSTAMP:20260421T110559Z

DTSTART:20120527T140000
DTEND:20120527T200000
SUMMARY:Онлайн-трансляция конференции церквей "Слово Жизни" Донецкой области
DESCRIPTION:Сегодня  нас смотрели с 12500 IP-адресов в онлайне! Мы очень рады всем вам!  Завтра будет продолжение онлайн трансляций служений конференции #WolUa  #domnaskale

X-ALT-DESC;FMTTYPE=text/html:<!DOCTYPE HTML PUBLIC "-//W3C//DTD HTML 3.2//EN">\n<HTML>\n<HEAD>\n<META NAME="Generator" CONTENT="MS Exchange Server version 08.00.0681.000">\n<TITLE></TITLE>\n</HEAD>\n<BODY>\n<!-- Converted from text/rtf format -->\n\n<h6 class="uiStreamMessage"><span class="messageBody">Сегодня  нас смотрели с 12500 IP-адресов в онлайне! Мы очень рады всем вам!  Завтра будет продолжение онлайн трансляций служений конференции #WolUa  #domnaskale</span></h6>\n\n</BODY>\n</HTML>

LOCATION:ONLINE
END:VEVENT

END:VCALENDAR
