BEGIN:VCALENDAR
VERSION:2.0
PRODID:-//hacksw/handcal//NONSGML v1.0//EN
BEGIN:VEVENT
UID:1e8be94123193f25f224303abb1824f3
DTSTAMP:20260421T054922Z

DTSTART:20120610T153000
DTEND:20120610T173000
SUMMARY:дружественная встреча Патриарха Киевского и всей Руси-Украины Филарета.... КАЖДОЕ ВОСКРЕСЕНЬЕ В 11.30  и 17.00 ОНЛАЙН ТРАНСЛЯЦИЯ БОГОСЛУЖЕНИЯ В ЦЕРКВИ "СЛОВО ЖИЗНИ"г.Донецк
DESCRIPTION:10 июня состоится дружественная встреча Патриарха Киевского и всей  Руси-Украины Филарета с прихожанами Украинской Христианской Евангельской  Церкви. Встреча пройдет в рамках визита в Донецкую область для встречи с  духовенством УПЦ КП и освящением храма.\nВстреча состоится 10 июня в 17.00 по адресу: г.Донецк, ул.Ткаченко, 100.\n Добро пожаловать!

X-ALT-DESC;FMTTYPE=text/html:<!DOCTYPE HTML PUBLIC "-//W3C//DTD HTML 3.2//EN">\n<HTML>\n<HEAD>\n<META NAME="Generator" CONTENT="MS Exchange Server version 08.00.0681.000">\n<TITLE></TITLE>\n</HEAD>\n<BODY>\n<!-- Converted from text/rtf format -->\n\n<p>10 июня состоится дружественная встреча Патриарха Киевского и всей  Руси-Украины Филарета с прихожанами Украинской Христианской Евангельской  Церкви. Встреча пройдет в рамках визита в Донецкую область для встречи с  духовенством УПЦ КП и освящением храма.</p><br /><p>Встреча состоится <strong>10 июня в 17.00</strong> по адресу: <strong>г.Донецк, ул.Ткаченко, 100.</strong><br /> Добро пожаловать!</p>\n\n</BODY>\n</HTML>

LOCATION:ONLINE
END:VEVENT

END:VCALENDAR
