BEGIN:VCALENDAR
VERSION:2.0
PRODID:-//hacksw/handcal//NONSGML v1.0//EN
BEGIN:VEVENT
UID:da4e65e1c3d2c92220f652363afd556a
DTSTAMP:20260421T020937Z

DTSTART:20120614T201500
DTEND:20120614T214500
SUMMARY:Прогулка по Москве
DESCRIPTION:Намечается прогулка по Москве после дождичка.

X-ALT-DESC;FMTTYPE=text/html:<!DOCTYPE HTML PUBLIC "-//W3C//DTD HTML 3.2//EN">\n<HTML>\n<HEAD>\n<META NAME="Generator" CONTENT="MS Exchange Server version 08.00.0681.000">\n<TITLE></TITLE>\n</HEAD>\n<BODY>\n<!-- Converted from text/rtf format -->\n\nНамечается прогулка по Москве после дождичка.\n\n</BODY>\n</HTML>

LOCATION:Таганка
END:VEVENT

END:VCALENDAR
