BEGIN:VCALENDAR
VERSION:2.0
PRODID:-//hacksw/handcal//NONSGML v1.0//EN
BEGIN:VEVENT
UID:a18fa5c5a8672054ec6bf671ba80e877
DTSTAMP:20260421T081151Z

DTSTART:20120802T010000
DTEND:20120802T030000
SUMMARY:Молодежное служение "Don't Stop" Official Group Сегодня, как и каждый вечер в 21:00, ты можешь присоединиться к нам через онлайн трансляцию на сайте youthua.org !!!
DESCRIPTION:

X-ALT-DESC;FMTTYPE=text/html:<!DOCTYPE HTML PUBLIC "-//W3C//DTD HTML 3.2//EN">\n<HTML>\n<HEAD>\n<META NAME="Generator" CONTENT="MS Exchange Server version 08.00.0681.000">\n<TITLE></TITLE>\n</HEAD>\n<BODY>\n<!-- Converted from text/rtf format -->\n\n\n\n</BODY>\n</HTML>

LOCATION:online
END:VEVENT

END:VCALENDAR
