BEGIN:VCALENDAR
VERSION:2.0
PRODID:-//hacksw/handcal//NONSGML v1.0//EN
BEGIN:VEVENT
UID:6d535d5e2187ff8a6ff886edadb69d43
DTSTAMP:20260420T234256Z

DTSTART:20120907T140000
DTEND:20120909T210000
SUMMARY:7,8,9 сентября - конференция в Донецке!!! Добро пожаловать!!! http://t.co/HVUGQ9O9
DESCRIPTION:\n\n7, 8, 9 сентября |\nконференция в Донецке "В ЦЕНТРЕ БОЖЬЕГО ЧУДА"!!! Добро пожаловать!!! \n «Слово Жизни», Украина\nwolua.org/ru/announcemen…\nСПИКЕРЫ:  Леонид Падун (г.Донецк, Украина) Карл-Густав Северин (г.Уппсала,  Швеция) Маттс-Ола Исхоел (г.Москва, Россия) РАСПИСАНИЕ: 6 сентября  (четверг), 18.00 - служение для пасторов и лидеров (ул.Ткаченко, 100) 7  сентября (пятница), 10.00, 14.00, 17.00 -\n\n

X-ALT-DESC;FMTTYPE=text/html:<!DOCTYPE HTML PUBLIC "-//W3C//DTD HTML 3.2//EN">\n<HTML>\n<HEAD>\n<META NAME="Generator" CONTENT="MS Exchange Server version 08.00.0681.000">\n<TITLE></TITLE>\n</HEAD>\n<BODY>\n<!-- Converted from text/rtf format -->\n\n<div class="-cx-PRIVATE-uiImageBlock__content "><br /><div class="fsm fwn fcg"><br /><div class="uiAttachmentTitle"><strong><a href="http://t.co/HVUGQ9O9" target="_blank" rel="nofollow">7, 8, 9 сентября |</a></strong><br /><h2 class="uiStreamMessage"><span class="messageBody"><span class="userContent">конференция в Донецке "В ЦЕНТРЕ БОЖЬЕГО ЧУДА"!!! Добро пожаловать!!! </span></span></h2><br /><strong><a href="http://t.co/HVUGQ9O9" target="_blank" rel="nofollow"> «Слово Жизни», Украина</a></strong></div><br /><span class="caption">wolua.org/ru/announcemen…</span><br /><div class="mts uiAttachmentDesc translationEligibleUserAttachmentMessage">СПИКЕРЫ:  Леонид Падун (г.Донецк, Украина) Карл-Густав Северин (г.Уппсала,  Швеция) Маттс-Ола Исхоел (г.Москва, Россия) РАСПИСАНИЕ: 6 сентября  (четверг), 18.00 - служение для пасторов и лидеров (ул.Ткаченко, 100) 7  сентября (пятница), 10.00, 14.00, 17.00 -</div><br /></div><br /></div>\n\n</BODY>\n</HTML>

LOCATION:г.Донецк,ул.Соколиная, строительная площадка церкви)
END:VEVENT

END:VCALENDAR
