BEGIN:VCALENDAR
VERSION:2.0
PRODID:-//hacksw/handcal//NONSGML v1.0//EN
BEGIN:VEVENT
UID:21cd0f48452761181982a20158eb4a99
DTSTAMP:20260421T022500Z

DTSTART:20120711T140000
DTEND:20121112T010000
SUMMARY:женская конференция
DESCRIPTION:которую ежегодно огранизовует церковь спасенье в г.Вишневое (Украина) у нас также будет мужская и молодежные конфеоренции)

X-ALT-DESC;FMTTYPE=text/html:<!DOCTYPE HTML PUBLIC "-//W3C//DTD HTML 3.2//EN">\n<HTML>\n<HEAD>\n<META NAME="Generator" CONTENT="MS Exchange Server version 08.00.0681.000">\n<TITLE></TITLE>\n</HEAD>\n<BODY>\n<!-- Converted from text/rtf format -->\n\n<p>которую ежегодно огранизовует церковь спасенье в г.Вишневое (Украина) у нас также будет мужская и молодежные конфеоренции)</p>\n\n</BODY>\n</HTML>

LOCATION:г.Вишнево Украина (Киевская область)
END:VEVENT

END:VCALENDAR
