BEGIN:VCALENDAR
VERSION:2.0
PRODID:-//hacksw/handcal//NONSGML v1.0//EN
BEGIN:VEVENT
UID:a27cadeff5eb8fbe744132a8955361ae
DTSTAMP:20260421T004226Z

DTSTART:20121026T230000
DTEND:20121027T010000
SUMMARY:"Атмосфера+" Альтернатива. Выбирай лучшее...
DESCRIPTION:Мероприятие: "Атмосфера+" Альтернатива. Выбирай лучшее...<br style="color: #141414; font-family: Georgia, 'Times New Roman', Times, serif; font-weight: normal; letter-spacing: normal; line-height: 20px; background-color: #e3e8ee;" />Адрес: г. Житомир, ул. Кафедральная 8 (клуб Инфорум), зал ArtHouse.<br style="color: #141414; font-family: Georgia, 'Times New Roman', Times, serif; font-weight: normal; letter-spacing: normal; line-height: 20px; background-color: #e3e8ee;" />Дата проведения: 25 октября с 19:00 до 21:00<br style="color: #141414; font-family: Georgia, 'Times New Roman', Times, serif; font-weight: normal; letter-spacing: normal; line-height: 20px; background-color: #e3e8ee;" />Приглашение:http://vk.com/event43497838

X-ALT-DESC;FMTTYPE=text/html:<!DOCTYPE HTML PUBLIC "-//W3C//DTD HTML 3.2//EN">\n<HTML>\n<HEAD>\n<META NAME="Generator" CONTENT="MS Exchange Server version 08.00.0681.000">\n<TITLE></TITLE>\n</HEAD>\n<BODY>\n<!-- Converted from text/rtf format -->\n\n<h2 style="padding: 0px; margin: 0px 0px 10px; border: 0px solid #eaeaea; outline: 0px; font-family: Arial, Helvetica, sans-serif; color: #717171; letter-spacing: -1px;"><strong style="margin-top: 0px; color: #141414; font-family: Georgia, 'Times New Roman', Times, serif; letter-spacing: normal; line-height: 20px; background-color: #e3e8ee;"><span style="font-size: 13px;"><span style="font-family: Verdana;"><span style="color: #222222;">Мероприятие: </span></span></span></strong><em style="color: #141414; font-family: Georgia, 'Times New Roman', Times, serif; font-weight: normal; letter-spacing: normal; line-height: 20px; background-color: #e3e8ee;"><span style="font-size: 13px;"><span style="font-family: Verdana;"><span style="color: #222222;"><span style="color: #ff0000;"><strong>"Атмосфера+" Альтернатива. Выбирай лучшее...</strong></span></span></span></span></em><br style="color: #141414; font-family: Georgia, 'Times New Roman', Times, serif; font-weight: normal; letter-spacing: normal; line-height: 20px; background-color: #e3e8ee;" /><strong style="color: #141414; font-family: Georgia, 'Times New Roman', Times, serif; letter-spacing: normal; line-height: 20px; background-color: #e3e8ee;"><span style="font-size: 13px;"><span style="font-family: Verdana;"><span style="color: #222222;">Адрес: </span></span></span></strong><em style="color: #141414; font-family: Georgia, 'Times New Roman', Times, serif; font-weight: normal; letter-spacing: normal; line-height: 20px; background-color: #e3e8ee;"><span style="font-size: 13px;"><span style="font-family: Verdana;"><span style="color: #222222;">г. Житомир, ул. Кафедральная 8 (клуб Инфорум), зал ArtHouse.</span></span></span></em><br style="color: #141414; font-family: Georgia, 'Times New Roman', Times, serif; font-weight: normal; letter-spacing: normal; line-height: 20px; background-color: #e3e8ee;" /><strong style="color: #141414; font-family: Georgia, 'Times New Roman', Times, serif; letter-spacing: normal; line-height: 20px; background-color: #e3e8ee;"><span style="font-size: 13px;"><span style="font-family: Verdana;"><span style="color: #222222;">Дата проведения: </span></span></span></strong><em style="color: #141414; font-family: Georgia, 'Times New Roman', Times, serif; font-weight: normal; letter-spacing: normal; line-height: 20px; background-color: #e3e8ee;"><span style="font-size: 13px;"><span style="font-family: Verdana;"><span style="color: #222222;">25 октября с 19:00 до 21:00</span></span></span></em><br style="color: #141414; font-family: Georgia, 'Times New Roman', Times, serif; font-weight: normal; letter-spacing: normal; line-height: 20px; background-color: #e3e8ee;" /><strong style="color: #141414; font-family: Georgia, 'Times New Roman', Times, serif; letter-spacing: normal; line-height: 20px; background-color: #e3e8ee;"><span style="font-size: 13px;"><span style="font-family: Verdana;"><span style="color: #222222;">Приглашение:</span></span></span></strong><em style="color: #141414; font-family: Georgia, 'Times New Roman', Times, serif; font-weight: normal; letter-spacing: normal; line-height: 20px; background-color: #e3e8ee;"><span style="font-size: 13px;"><span style="font-family: Verdana;"><span style="color: #222222;"><a class="externalLink" href="http://vk.com/event43497838" target="_blank" rel="nofollow" style="color: #176093; text-decoration: none; border-top-left-radius: 5px; border-top-right-radius: 5px; border-bottom-right-radius: 5px; border-bottom-left-radius: 5px; text-shadow: #ffffff 0px 1px 0px !important; padding: 0px 3px; margin: 0px -3px;">http://vk.com/event43497838</a></span></span></span></em></h2>\n\n</BODY>\n</HTML>

LOCATION:Украина, Житомир
END:VEVENT

END:VCALENDAR
