BEGIN:VCALENDAR
VERSION:2.0
PRODID:-//hacksw/handcal//NONSGML v1.0//EN
BEGIN:VEVENT
UID:fd6a9109534b83597412266f731383a6
DTSTAMP:20260420T214846Z

DTSTART:20121024T140000
DTEND:20121026T200000
SUMMARY:  24-26 октября  Пост и молитва Украинской Христианской Евангельской Церкви (г.Донецк)
DESCRIPTION:РАСПИСАНИЕ:\n24.10 - 10.00 - 20.00, регистрация с 8.00;\n25.10 - 10.00 - 20.00, регистрация с 9.00;\n26.10  -  9.00 - 16.00\nМесто проведения: г. Донецк, ул.Ткаченко,100\nhttp://wolua.org/ru/announcements/post-2012.html

X-ALT-DESC;FMTTYPE=text/html:<!DOCTYPE HTML PUBLIC "-//W3C//DTD HTML 3.2//EN">\n<HTML>\n<HEAD>\n<META NAME="Generator" CONTENT="MS Exchange Server version 08.00.0681.000">\n<TITLE></TITLE>\n</HEAD>\n<BODY>\n<!-- Converted from text/rtf format -->\n\n<p><span style="color: #ff9900;"><span style="font-size: medium;"><strong>РАСПИСАНИЕ:</strong></span></span></p><br /><p><span style="font-size: medium;"><span style="color: #ff9900;"><strong>24.10</strong></span></span> - 10.00 - 20.00, регистрация с 8.00;</p><br /><p><span style="color: #ff9900;"><span style="font-size: medium;"><strong>25.10</strong></span></span> - 10.00 - 20.00, регистрация с 9.00;</p><br /><p><span style="font-size: medium;"><span style="color: #ff9900;"><strong>26.10</strong></span></span><span style="color: #ff9900;"><strong>  </strong></span>-  9.00 - 16.00</p><br /><p><span style="font-size: medium;"><span style="color: #ff9900;"><strong>Место проведения:</strong></span></span> г. Донецк, ул.Ткаченко,100</p><br /><p><strong>http://wolua.org/ru/announcements/post-2012.html</strong></p>\n\n</BODY>\n</HTML>

LOCATION:г.Донецк,ул.Ткаченко,100
END:VEVENT

END:VCALENDAR
