BEGIN:VCALENDAR
VERSION:2.0
PRODID:-//hacksw/handcal//NONSGML v1.0//EN
BEGIN:VEVENT
UID:877f8ceae6cff656db9aea196a18ea13
DTSTAMP:20260420T234908Z

DTSTART:20121125T153000
DTEND:20121125T230000
SUMMARY:КАЖДОЕ ВОСКРЕСЕНЬЕ В 11.30  и 17.00 ОНЛАЙН ТРАНСЛЯЦИЯ БОГОСЛУЖЕНИЯ В ЦЕРКВИ "СЛОВО ЖИЗНИ"г.Донецк
DESCRIPTION:

X-ALT-DESC;FMTTYPE=text/html:<!DOCTYPE HTML PUBLIC "-//W3C//DTD HTML 3.2//EN">\n<HTML>\n<HEAD>\n<META NAME="Generator" CONTENT="MS Exchange Server version 08.00.0681.000">\n<TITLE></TITLE>\n</HEAD>\n<BODY>\n<!-- Converted from text/rtf format -->\n\n\n\n</BODY>\n</HTML>

LOCATION:ONLINE
END:VEVENT

END:VCALENDAR
