BEGIN:VCALENDAR
VERSION:2.0
PRODID:-//hacksw/handcal//NONSGML v1.0//EN
BEGIN:VEVENT
UID:47263ee565e284cb705234e70818d1ea
DTSTAMP:20260421T003110Z

DTSTART:20121214T040000
DTEND:20121217T035959
SUMMARY:Первая годовщина Духовного Центра Возрождение
DESCRIPTION:14,15,16 декабря 2012 года мы приглашаем Вас на грандиозное празднование Первой годовщины Духовного Центра Возрождение в городе Киеве, которое будет проходить в Храме Пробуждения!<br style="font-family: tahoma, arial, verdana, sans-serif, 'Lucida Sans'; font-size: 11.199999809265137px; line-height: 14.399999618530273px;" />Проповедовать и молиться на этой конференции будет пастор Владимир Мунтян, пастор Томми Тинни, епископ Валентин Кольба и пастор Юлия Захарченко. А также концерт, с живой музыкой, Александра Патлиса!<br style="font-family: tahoma, arial, verdana, sans-serif, 'Lucida Sans'; font-size: 11.199999809265137px; line-height: 14.399999618530273px;" />Поверь, это будет особенное время! Бог прикоснется лично к тебе!<br style="font-family: tahoma, arial, verdana, sans-serif, 'Lucida Sans'; font-size: 11.199999809265137px; line-height: 14.399999618530273px;" />Мы начнем празднование годовщины с 14 декабря в храме Пробуждения, по адресу ул. Промышленная 3<br style="font-family: tahoma, arial, verdana, sans-serif, 'Lucida Sans'; font-size: 11.199999809265137px; line-height: 14.399999618530273px;" />Празднование годовщины будет транслироваться на нашем официальном сайте vo.org.ua<br style="font-family: tahoma, arial, verdana, sans-serif, 'Lucida Sans'; font-size: 11.199999809265137px; line-height: 14.399999618530273px;" />Расписание конференции:<br style="font-family: tahoma, arial, verdana, sans-serif, 'Lucida Sans'; font-size: 11.199999809265137px; line-height: 14.399999618530273px;" />14 декабря:<br style="font-family: tahoma, arial, verdana, sans-serif, 'Lucida Sans'; font-size: 11.199999809265137px; line-height: 14.399999618530273px;" />18.00- пастор Томми Тинни<br style="font-family: tahoma, arial, verdana, sans-serif, 'Lucida Sans'; font-size: 11.199999809265137px; line-height: 14.399999618530273px;" />15 декабря:<br style="font-family: tahoma, arial, verdana, sans-serif, 'Lucida Sans'; font-size: 11.199999809265137px; line-height: 14.399999618530273px;" />11.00- епископ Валентин Кольба<br style="font-family: tahoma, arial, verdana, sans-serif, 'Lucida Sans'; font-size: 11.199999809265137px; line-height: 14.399999618530273px;" />14.00- пастор Юлия Захарченко<br style="font-family: tahoma, arial, verdana, sans-serif, 'Lucida Sans'; font-size: 11.199999809265137px; line-height: 14.399999618530273px;" />17.00- пастор Владимир Мунтян<br style="font-family: tahoma, arial, verdana, sans-serif, 'Lucida Sans'; font-size: 11.199999809265137px; line-height: 14.399999618530273px;" />16 декабря:<br style="font-family: tahoma, arial, verdana, sans-serif, 'Lucida Sans'; font-size: 11.199999809265137px; line-height: 14.399999618530273px;" />11.00- пастор Владимир Мунтян<br style="font-family: tahoma, arial, verdana, sans-serif, 'Lucida Sans'; font-size: 11.199999809265137px; line-height: 14.399999618530273px;" />14.00- пастор Томми Тинни<br style="font-family: tahoma, arial, verdana, sans-serif, 'Lucida Sans'; font-size: 11.199999809265137px; line-height: 14.399999618530273px;" /><br style="font-family: tahoma, arial, verdana, sans-serif, 'Lucida Sans'; font-size: 11.199999809265137px; line-height: 14.399999618530273px;" />В течении этого года Бог сильно благословлял церковь. Мы видели, как Бог исцелял больных, освобождал пленных, спасал людей. Мы верим, что на праздновании Годовщины Киевского Духовного центра «Возрождение» Господь так же совершит, что-то особенное для всех <br style="font-family: tahoma, arial, verdana, sans-serif, 'Lucida Sans'; font-size: 11.199999809265137px; line-height: 14.399999618530273px;" />нас! Приезжайте и мы вместе разделим Славу Божью!.<br style="font-family: tahoma, arial, verdana, sans-serif, 'Lucida Sans'; font-size: 11.199999809265137px; line-height: 14.399999618530273px;" />Давай вместе будем торжествовать и радоваться, видя то, что совершает сегодня Бог! Мы ждем Вас!

X-ALT-DESC;FMTTYPE=text/html:<!DOCTYPE HTML PUBLIC "-//W3C//DTD HTML 3.2//EN">\n<HTML>\n<HEAD>\n<META NAME="Generator" CONTENT="MS Exchange Server version 08.00.0681.000">\n<TITLE></TITLE>\n</HEAD>\n<BODY>\n<!-- Converted from text/rtf format -->\n\n<p><span style="font-family: tahoma, arial, verdana, sans-serif, 'Lucida Sans'; font-size: 11.199999809265137px; line-height: 14.399999618530273px;">14,15,16 декабря 2012 года мы приглашаем Вас на грандиозное празднование Первой годовщины Духовного Центра Возрождение в городе Киеве, которое будет проходить в Храме Пробуждения!</span><br style="font-family: tahoma, arial, verdana, sans-serif, 'Lucida Sans'; font-size: 11.199999809265137px; line-height: 14.399999618530273px;" /><span style="font-family: tahoma, arial, verdana, sans-serif, 'Lucida Sans'; font-size: 11.199999809265137px; line-height: 14.399999618530273px;">Проповедовать и молиться на этой конференции будет пастор Владимир Мунтян, пастор Томми Тинни, епископ Валентин Кольба и пастор Юлия Захарченко. А также концерт, с живой музыкой, Александра Патлиса!</span><br style="font-family: tahoma, arial, verdana, sans-serif, 'Lucida Sans'; font-size: 11.199999809265137px; line-height: 14.399999618530273px;" /><span style="font-family: tahoma, arial, verdana, sans-serif, 'Lucida Sans'; font-size: 11.199999809265137px; line-height: 14.399999618530273px;">Поверь, это будет особенное время! Бог прикоснется лично к тебе!</span><br style="font-family: tahoma, arial, verdana, sans-serif, 'Lucida Sans'; font-size: 11.199999809265137px; line-height: 14.399999618530273px;" /><span style="font-family: tahoma, arial, verdana, sans-serif, 'Lucida Sans'; font-size: 11.199999809265137px; line-height: 14.399999618530273px;">Мы начнем празднование годовщины с 14 декабря в храме Пробуждения, по адресу ул. Промышленная 3</span><br style="font-family: tahoma, arial, verdana, sans-serif, 'Lucida Sans'; font-size: 11.199999809265137px; line-height: 14.399999618530273px;" /><span style="font-family: tahoma, arial, verdana, sans-serif, 'Lucida Sans'; font-size: 11.199999809265137px; line-height: 14.399999618530273px;">Празднование годовщины будет транслироваться на нашем официальном сайте </span><a href="http://vk.com/away.php?to=http%3A%2F%2Fvo.org.ua&post=27644793_1898" target="_blank" style="color: #2b587a; text-decoration: initial; cursor: pointer; outline: none; font-family: tahoma, arial, verdana, sans-serif, 'Lucida Sans'; font-size: 11.199999809265137px; line-height: 14.399999618530273px;">vo.org.ua</a><br style="font-family: tahoma, arial, verdana, sans-serif, 'Lucida Sans'; font-size: 11.199999809265137px; line-height: 14.399999618530273px;" /><span style="font-family: tahoma, arial, verdana, sans-serif, 'Lucida Sans'; font-size: 11.199999809265137px; line-height: 14.399999618530273px;">Расписание конференции:</span><br style="font-family: tahoma, arial, verdana, sans-serif, 'Lucida Sans'; font-size: 11.199999809265137px; line-height: 14.399999618530273px;" /><span style="font-family: tahoma, arial, verdana, sans-serif, 'Lucida Sans'; font-size: 11.199999809265137px; line-height: 14.399999618530273px;">14 декабря:</span><br style="font-family: tahoma, arial, verdana, sans-serif, 'Lucida Sans'; font-size: 11.199999809265137px; line-height: 14.399999618530273px;" /><span style="font-family: tahoma, arial, verdana, sans-serif, 'Lucida Sans'; font-size: 11.199999809265137px; line-height: 14.399999618530273px;">18.00- пастор Томми Тинни</span><br style="font-family: tahoma, arial, verdana, sans-serif, 'Lucida Sans'; font-size: 11.199999809265137px; line-height: 14.399999618530273px;" /><span style="font-family: tahoma, arial, verdana, sans-serif, 'Lucida Sans'; font-size: 11.199999809265137px; line-height: 14.399999618530273px;">15 декабря:</span><br style="font-family: tahoma, arial, verdana, sans-serif, 'Lucida Sans'; font-size: 11.199999809265137px; line-height: 14.399999618530273px;" /><span style="font-family: tahoma, arial, verdana, sans-serif, 'Lucida Sans'; font-size: 11.199999809265137px; line-height: 14.399999618530273px;">11.00- епископ Валентин Кольба</span><br style="font-family: tahoma, arial, verdana, sans-serif, 'Lucida Sans'; font-size: 11.199999809265137px; line-height: 14.399999618530273px;" /><span style="font-family: tahoma, arial, verdana, sans-serif, 'Lucida Sans'; font-size: 11.199999809265137px; line-height: 14.399999618530273px;">14.00- пастор Юлия Захарченко</span><br style="font-family: tahoma, arial, verdana, sans-serif, 'Lucida Sans'; font-size: 11.199999809265137px; line-height: 14.399999618530273px;" /><span style="font-family: tahoma, arial, verdana, sans-serif, 'Lucida Sans'; font-size: 11.199999809265137px; line-height: 14.399999618530273px;">17.00- пастор Владимир Мунтян</span><br style="font-family: tahoma, arial, verdana, sans-serif, 'Lucida Sans'; font-size: 11.199999809265137px; line-height: 14.399999618530273px;" /><span style="font-family: tahoma, arial, verdana, sans-serif, 'Lucida Sans'; font-size: 11.199999809265137px; line-height: 14.399999618530273px;">16 декабря:</span><br style="font-family: tahoma, arial, verdana, sans-serif, 'Lucida Sans'; font-size: 11.199999809265137px; line-height: 14.399999618530273px;" /><span style="font-family: tahoma, arial, verdana, sans-serif, 'Lucida Sans'; font-size: 11.199999809265137px; line-height: 14.399999618530273px;">11.00- пастор Владимир Мунтян</span><br style="font-family: tahoma, arial, verdana, sans-serif, 'Lucida Sans'; font-size: 11.199999809265137px; line-height: 14.399999618530273px;" /><span style="font-family: tahoma, arial, verdana, sans-serif, 'Lucida Sans'; font-size: 11.199999809265137px; line-height: 14.399999618530273px;">14.00- пастор Томми Тинни</span><br style="font-family: tahoma, arial, verdana, sans-serif, 'Lucida Sans'; font-size: 11.199999809265137px; line-height: 14.399999618530273px;" /><br style="font-family: tahoma, arial, verdana, sans-serif, 'Lucida Sans'; font-size: 11.199999809265137px; line-height: 14.399999618530273px;" /><span style="font-family: tahoma, arial, verdana, sans-serif, 'Lucida Sans'; font-size: 11.199999809265137px; line-height: 14.399999618530273px;">В течении этого года Бог сильно благословлял церковь. Мы видели, как Бог исцелял больных, освобождал пленных, спасал людей. Мы верим, что на праздновании Годовщины Киевского Духовного центра «Возрождение» Господь так же совершит, что-то особенное для всех </span><br style="font-family: tahoma, arial, verdana, sans-serif, 'Lucida Sans'; font-size: 11.199999809265137px; line-height: 14.399999618530273px;" /><span style="font-family: tahoma, arial, verdana, sans-serif, 'Lucida Sans'; font-size: 11.199999809265137px; line-height: 14.399999618530273px;">нас! Приезжайте и мы вместе разделим Славу Божью!.</span><br style="font-family: tahoma, arial, verdana, sans-serif, 'Lucida Sans'; font-size: 11.199999809265137px; line-height: 14.399999618530273px;" /><span style="font-family: tahoma, arial, verdana, sans-serif, 'Lucida Sans'; font-size: 11.199999809265137px; line-height: 14.399999618530273px;">Давай вместе будем торжествовать и радоваться, видя то, что совершает сегодня Бог! Мы ждем Вас!</span></p>\n\n</BODY>\n</HTML>

LOCATION:Киев, Украина
END:VEVENT

END:VCALENDAR
