BEGIN:VCALENDAR
VERSION:2.0
PRODID:-//hacksw/handcal//NONSGML v1.0//EN
BEGIN:VEVENT
UID:1c6858e640f5865420c46111d6cd5830
DTSTAMP:20260421T001644Z

DTSTART:20130330T210000
DTEND:20130330T230000
SUMMARY:Презентация диска Ирины Цукановой «Боже, нет Тебя дороже»
DESCRIPTION:Презентация диска Ирины Цукановой «Боже, нет Тебя дороже»<br style="font-family: Georgia, 'Times New Roman', Times, serif; font-size: 16px; line-height: 24px;" />30 марта в 17:00 г. Киев, проспект Комарова 1 ДК НАУ<br style="font-family: Georgia, 'Times New Roman', Times, serif; font-size: 16px; line-height: 24px;" /><br style="font-family: Georgia, 'Times New Roman', Times, serif; font-size: 16px; line-height: 24px;" />Вход свободный — Приходи сам и приводи друзей!<br style="font-family: Georgia, 'Times New Roman', Times, serif; font-size: 16px; line-height: 24px;" /><br style="font-family: Georgia, 'Times New Roman', Times, serif; font-size: 16px; line-height: 24px;" />\n 

X-ALT-DESC;FMTTYPE=text/html:<!DOCTYPE HTML PUBLIC "-//W3C//DTD HTML 3.2//EN">\n<HTML>\n<HEAD>\n<META NAME="Generator" CONTENT="MS Exchange Server version 08.00.0681.000">\n<TITLE></TITLE>\n</HEAD>\n<BODY>\n<!-- Converted from text/rtf format -->\n\n<p><span style="font-family: Georgia, 'Times New Roman', Times, serif; font-size: 16px; line-height: 24px;">Презентация диска Ирины Цукановой «Боже, нет Тебя дороже»</span><br style="font-family: Georgia, 'Times New Roman', Times, serif; font-size: 16px; line-height: 24px;" /><span style="font-family: Georgia, 'Times New Roman', Times, serif; font-size: 16px; line-height: 24px;">30 марта в 17:00 г. Киев, проспект Комарова 1 ДК НАУ</span><br style="font-family: Georgia, 'Times New Roman', Times, serif; font-size: 16px; line-height: 24px;" /><br style="font-family: Georgia, 'Times New Roman', Times, serif; font-size: 16px; line-height: 24px;" /><span style="font-family: Georgia, 'Times New Roman', Times, serif; font-size: 16px; line-height: 24px;">Вход свободный — Приходи сам и приводи друзей!</span><br style="font-family: Georgia, 'Times New Roman', Times, serif; font-size: 16px; line-height: 24px;" /><br style="font-family: Georgia, 'Times New Roman', Times, serif; font-size: 16px; line-height: 24px;" /></p><br /><p style="text-align: center;"> </p>\n\n</BODY>\n</HTML>

LOCATION:30 марта в 17:00 г. Киев, проспект Комарова 1 ДК НАУ
END:VEVENT

END:VCALENDAR
