BEGIN:VCALENDAR
VERSION:2.0
PRODID:-//hacksw/handcal//NONSGML v1.0//EN
BEGIN:VEVENT
UID:6018c01076e9af33464f9db3c6f90e76
DTSTAMP:20260421T040320Z

DTSTART:20130506T190000
DTEND:20130616T003000
SUMMARY:Молитва Церквей Новое поколение
DESCRIPTION:6 мая 2013г. в г.Запорожье будет проходить общая молитва всех церквей Новое поколение, приглашаются все желающие - верующие и не верующие, а так же сочувствующие :))\n 

X-ALT-DESC;FMTTYPE=text/html:<!DOCTYPE HTML PUBLIC "-//W3C//DTD HTML 3.2//EN">\n<HTML>\n<HEAD>\n<META NAME="Generator" CONTENT="MS Exchange Server version 08.00.0681.000">\n<TITLE></TITLE>\n</HEAD>\n<BODY>\n<!-- Converted from text/rtf format -->\n\n<p>6 мая 2013г. в г.Запорожье будет проходить общая молитва всех церквей Новое поколение, приглашаются все желающие - верующие и не верующие, а так же сочувствующие :))</p><br /><p> </p>\n\n</BODY>\n</HTML>

LOCATION:Запорожье стадион Славутич-арена
END:VEVENT

END:VCALENDAR
