BEGIN:VCALENDAR
VERSION:2.0
PRODID:-//hacksw/handcal//NONSGML v1.0//EN
BEGIN:VEVENT
UID:beb53271c2964fccb97e0d06bdff1853
DTSTAMP:20260421T035946Z

DTSTART:20130601T000000
DTEND:20130601T103000
SUMMARY:Молитвенное служение
DESCRIPTION:Молитва за исцеление ВИЧ инфицированых,об открытии нового центра реабилитации,проведение детского лагеря в Крыму. Финансовую поддержку на лечения лейкемии. 

X-ALT-DESC;FMTTYPE=text/html:<!DOCTYPE HTML PUBLIC "-//W3C//DTD HTML 3.2//EN">\n<HTML>\n<HEAD>\n<META NAME="Generator" CONTENT="MS Exchange Server version 08.00.0681.000">\n<TITLE></TITLE>\n</HEAD>\n<BODY>\n<!-- Converted from text/rtf format -->\n\n<p>Молитва за исцеление ВИЧ инфицированых,об открытии нового центра реабилитации,проведение детского лагеря в Крыму. Финансовую поддержку на лечения лейкемии. </p>\n\n</BODY>\n</HTML>

LOCATION:Украина. Бахчисарай
END:VEVENT

END:VCALENDAR
