BEGIN:VCALENDAR
VERSION:2.0
PRODID:-//hacksw/handcal//NONSGML v1.0//EN
BEGIN:VEVENT
UID:38f5a78f94bf9a7988db3b4f878f1685
DTSTAMP:20260421T051940Z

DTSTART:20131005T040000
DTEND:20131006T040000
SUMMARY:Приглашаем народ Божий на Межконфессиональное собрание
DESCRIPTION:5-6 октября 2013 года состоится Седьмое  Межконфессиональное собрание представителей всех вероисповеданий и церквей в целях достижения Единства Народа Божьего во Христе Иисусе и созидания Тела Христова.\nОдна из главных  целей Межконфессиональных собраний – это прославление нашего Бога, потому что ступень прославления, как говорил Павел – «предопределил, призвал, оправдал, прославил», - последняя ступень в воле Божией. И если мы создадим достойную Программу идей и действий и реализуем их в нашей вере, то через такие дела веры народ Божий прославит Бога. А потому - познание воли Божией на последней ступени, и явление признаков последней ступени – вот важнейшая цель Межконфессиональных собраний. Но первой и обобщающей целью Межконфессиональных собраний Его народа являлось и будет являться дело созидания Тела Христова, через «крещение духом в Тело Его». Вечное Божественное определение – «жертвы и приношения Ты не восхотел, но Тело уготовал…» - должно наконец-то осуществиться на избранном народе Божием. И только вслед этого достижения возможны все другие цели Божии в последнее время.\nМотивацией для проведения Межконфессиональных собраний являются:  вера в дар «единого сердца», как обетования Божьего, путь созидания Тела Иисуса Христа, как Последнего Храма – путь славы Божией для христиан; формирование боевого (активного, приготовленного) построения народа в духе Единства для исполнения последней воли Божией, как и написано: «Он собрал их на место, называемое по-еврейски Армагеддон»; необходимость достижения Единства народа Божьего, чтобы счесть число зверя и избежать крещения в Вавилонскую Блудницу, о чем говорит заповедь: «Выйди из Вавилона народ Мой…» \nМежконфессиональные собрания содержат в себе множество целей и задач. Идея «Стана» предполагает цели и задачи для полной массовости народа Божьего, в этом одна из целей Межконфессиональных собраний. По этой причине все члены Межконфессиональных собраний сознательно и по вере должны поработать и опубликовать свои цели и задачи для будущих Межконфессиональных собраний – это и справедливо и необходимо. И при этом надо видеть, что отдельно существующие вероисповедания и церкви не могут быть «станом» народа Божьего, но могут быть только отрядом «стана» для выполнения отдельной задачи «стана». И по выполнении этой задачи отряд обязан вернуться в «стан».\nМежконфессиональные собрания не прихоть, не свободная воля выбора, а жесточайшая необходимость спасения. Как и было заявлено два года назад на Первом Межконфессиональном Собрании в октябре 2011 года, намерение собираться в Единстве и в имени Иисуса Христа не только укрепилось между народом разных церквей, но и стало формой постоянного общения. \nЗа это время состоялось 26 собраний в рамках идеи Межконфессиональных собраний  в целях достижения Единства Народа Божьего во Христе Иисусе и созидания Тела Христова. Результатом взаимодействия Народа Его стала публикация многочисленных статей и проповедей, опубликованных в интернете и на наших сайтах.\nТемы выступлений на 5-6 октября:\n- "Обетование наследования мира", Мазур Владимир (Красноярск, Россия)\n- "Аналитический разбор "Откровение Иоанна Богослова" (2-3 главы)",  Шаклеин Анатолий (Красноярск, Россия)\n- "О переходе власти к народу Божьему", Байфа Ульяна (Красноярск, Россия\nПостоянными участниками собрания стали представители из разных стран: Израиль, Россия, Монголия, США, Украина, Голландия.\nЗа два дня планируется провести 4 собрания - в субботу и воскресенье, по 2 утренних и 2 вечерних собрания, по 3 часа каждое. В перерывах между собраниями свободное общение. Утреннее собрание в 8.00ч., вечернее в 15.00ч. (время московское).\nМежконфессиональное собрание организовано независимо от каких-либо фондов или организаций, является добровольным и открытым. В ходе рабочих встреч по целям Межконфессиональных собраний многие участники заявились со словом проповеди.\nКаждый участник, желающий выступить, но еще не сделавший заявку, может связаться с координаторами по адресу unity@voiceofthecalling.org, для того, чтобы организаторы могли составить регламент выступлений, исходя из общего суммарного времени всех собраний. Все заявленные участники собрания могут действовать свободно и каждому будет предоставлено время. Возможность выступить не зависит от статуса выступающего: и лидерам и простым членам общений будет предоставлено равное право участвовать и действовать. Все участники обладают полной свободой действий в проповеди и предложениях. Все представители являются равноправными участниками собрания, принятие решений предлагается проводить простым голосованием и принимать большинством голосов. Главное – ни одна сторона не будет диктовать всем прочим свои нормы проведения собрания и будет проявлена полная веротерпимость ко всем представителям иных церквей и вероисповеданий, хотя бы на предоставленное время их действий и проповеди.\nДля тех участников, кто не сможет присоединиться к собраниям по городам и участвовать очно, будет организована аудио-конференции через Интернет (Skype). Для этого необходимо прислать информацию с Вашим скайп - адресом на почту unity@voiceofthecalling.org. По вопросам интернет-связи желательно связаться с нами до 5 октября  2013. Планируется также провести аудио и видео запись собраний, с целью выпуска репортажей, фильмов и аудио записей для последующей публикации их в Интернет.\nДля непосредственного участия и выступления, а также дискуссии на эту тему и подписки на получение информации по проекту «Межконфессиональные собрания» Вы можете связаться с нами:\n· По электронной почте: unity@voiceofthecalling.org\n· На форуме в теме “Межконфессиональное собрание”\n· На Facebook в нашей группе “Долина Иосафата”\n· На нашем сайте "Глас вопиющего": www.voiceofthecalling.com\n \nТелефон для оперативной связи: 7-923-782-35-64 Ирина

X-ALT-DESC;FMTTYPE=text/html:<!DOCTYPE HTML PUBLIC "-//W3C//DTD HTML 3.2//EN">\n<HTML>\n<HEAD>\n<META NAME="Generator" CONTENT="MS Exchange Server version 08.00.0681.000">\n<TITLE></TITLE>\n</HEAD>\n<BODY>\n<!-- Converted from text/rtf format -->\n\n<p class="MsoNormal" style="margin-bottom: 11pt; background-position: initial initial; background-repeat: initial initial;"><strong><span style="font-size: 9.0pt; font-family: 'Arial','sans-serif'; mso-fareast-font-family: 'Times New Roman'; color: #333333; mso-fareast-language: RU;">5-6 октября 2013 года состоится Седьмое  Межконфессиональное собрание представителей всех вероисповеданий и церквей в целях достижения Единства Народа Божьего во Христе Иисусе и созидания Тела Христова.</span></strong></p><br /><p class="MsoNormal" style="margin-bottom: 11pt; background-position: initial initial; background-repeat: initial initial;"><span style="font-size: 9.0pt; font-family: 'Arial','sans-serif'; mso-fareast-font-family: 'Times New Roman'; color: #333333; mso-fareast-language: RU;">Одна из главных  целей Межконфессиональных собраний – это </span><span style="font-size: 10.0pt; font-family: 'Arial','sans-serif'; mso-fareast-font-family: 'Times New Roman'; color: #222222; mso-fareast-language: RU;"><a href="http://www.voiceofthecalling.com/motivation3.html" target="_blank"><span style="font-size: 9.0pt; mso-bidi-font-size: 11.0pt; color: #386073;">прославление нашего Бога</span></a></span><span style="font-size: 9.0pt; font-family: 'Arial','sans-serif'; mso-fareast-font-family: 'Times New Roman'; color: #333333; mso-fareast-language: RU;">, потому что ступень прославления, как говорил Павел – «предопределил, призвал, оправдал, прославил», - последняя ступень в воле Божией. И если мы создадим достойную Программу идей и действий и реализуем их в нашей вере, то через такие дела веры народ Божий прославит Бога. А потому - познание воли Божией на последней ступени, и явление признаков последней ступени – вот важнейшая цель Межконфессиональных собраний. Но первой и обобщающей целью Межконфессиональных собраний Его народа являлось и будет являться дело созидания Тела Христова, через «крещение духом в Тело Его». Вечное Божественное определение – «жертвы и приношения Ты не восхотел, но Тело уготовал…» - должно наконец-то осуществиться на избранном народе Божием. И только вслед этого достижения возможны все другие цели Божии в последнее время.</span></p><br /><p class="MsoNormal" style="margin-bottom: 11pt; background-position: initial initial; background-repeat: initial initial;"><span style="font-size: 9.0pt; font-family: 'Arial','sans-serif'; mso-fareast-font-family: 'Times New Roman'; color: #333333; mso-fareast-language: RU;">Мотивацией для проведения Межконфессиональных собраний являются:  вера в дар «единого сердца», как обетования Божьего, путь созидания Тела Иисуса Христа, как Последнего Храма – путь славы Божией для христиан; формирование боевого (активного, приготовленного) построения народа в духе Единства для исполнения последней воли Божией, как и написано: «Он собрал их на место, называемое по-еврейски Армагеддон»; необходимость достижения Единства народа Божьего, чтобы счесть число зверя и избежать крещения в Вавилонскую Блудницу, о чем говорит заповедь: «Выйди из Вавилона народ Мой…» </span></p><br /><p class="MsoNormal" style="margin: 11pt 0cm; background-position: initial initial; background-repeat: initial initial;"><span style="font-size: 9.0pt; font-family: 'Arial','sans-serif'; mso-fareast-font-family: 'Times New Roman'; color: #333333; mso-fareast-language: RU;">Межконфессиональные собрания содержат в себе множество целей и задач. Идея «Стана» предполагает цели и задачи для полной массовости народа Божьего, в этом одна из целей Межконфессиональных собраний. По этой причине все члены Межконфессиональных собраний сознательно и по вере должны поработать и опубликовать свои цели и задачи для будущих Межконфессиональных собраний – это и справедливо и необходимо. И при этом надо видеть, что отдельно существующие вероисповедания и церкви не могут быть «станом» народа Божьего, но могут быть только отрядом «стана» для выполнения отдельной задачи «стана». И по выполнении этой задачи отряд обязан вернуться в «стан».</span></p><br /><p class="MsoNormal" style="margin-bottom: 11pt; background-position: initial initial; background-repeat: initial initial;"><span style="font-size: 9.0pt; font-family: 'Arial','sans-serif'; mso-fareast-font-family: 'Times New Roman'; color: #333333; mso-fareast-language: RU;">Межконфессиональные собрания не прихоть, не свободная воля выбора, а жесточайшая </span><span style="font-size: 10.0pt; font-family: 'Arial','sans-serif'; mso-fareast-font-family: 'Times New Roman'; color: #222222; mso-fareast-language: RU;"><a href="http://www.voiceofthecalling.com/mks-goals.html" target="_blank"><span style="font-size: 9.0pt; mso-bidi-font-size: 11.0pt; color: #138bb3; text-decoration: none; text-underline: none;">необходимость спасения</span></a></span><span style="font-size: 9.0pt; font-family: 'Arial','sans-serif'; mso-fareast-font-family: 'Times New Roman'; color: #333333; mso-fareast-language: RU;">. Как и было заявлено два года назад на </span><span style="font-size: 10.0pt; font-family: 'Arial','sans-serif'; mso-fareast-font-family: 'Times New Roman'; color: #222222; mso-fareast-language: RU;"><a href="http://www.voiceofthecalling.com/news-mks1-report.html" target="_blank"><span style="font-size: 9.0pt; mso-bidi-font-size: 11.0pt; color: #138bb3; text-decoration: none; text-underline: none;">Первом Межконфессиональном Собрании</span></a></span><span style="font-size: 9.0pt; font-family: 'Arial','sans-serif'; mso-fareast-font-family: 'Times New Roman'; color: #333333; mso-fareast-language: RU;"> в октябре 2011 года, намерение собираться в Единстве и в имени Иисуса Христа не только укрепилось между народом разных церквей, но и стало формой постоянного общения. </span></p><br /><p class="MsoNormal" style="margin-bottom: 11pt; background-position: initial initial; background-repeat: initial initial;"><span style="font-size: 9.0pt; font-family: 'Arial','sans-serif'; mso-fareast-font-family: 'Times New Roman'; color: #333333; mso-fareast-language: RU;">За это время состоялось 26 собраний в рамках идеи Межконфессиональных собраний  в целях достижения Единства Народа Божьего во Христе Иисусе и созидания Тела Христова. Результатом взаимодействия Народа Его стала публикация многочисленных статей и проповедей, опубликованных в интернете и на </span><span style="text-decoration: underline;"><span style="font-size: 9.0pt; font-family: 'Arial','sans-serif'; mso-fareast-font-family: 'Times New Roman'; color: #222222; mso-fareast-language: RU;"><a href="http://www.voiceofthecalling.com/mks-goals.html" target="_blank"><span style="mso-bidi-font-size: 11.0pt; color: #1155cc; text-decoration: none; text-underline: none;">наших сайтах.</span></a></span></span></p><br /><p class="MsoNormal" style="margin-bottom: 11pt; background-position: initial initial; background-repeat: initial initial;"><span style="font-size: 10.0pt; font-family: 'Arial','sans-serif'; mso-fareast-font-family: 'Times New Roman'; color: #222222; mso-fareast-language: RU;">Темы выступлений на 5-6 октября:</span></p><br /><p class="MsoNormal" style="margin-bottom: 11pt; background-position: initial initial; background-repeat: initial initial;"><span style="font-size: 10.0pt; font-family: 'Arial','sans-serif'; mso-fareast-font-family: 'Times New Roman'; color: #222222; mso-fareast-language: RU;">- "Обетование наследования мира", Мазур Владимир (Красноярск, Россия)</span></p><br /><p class="MsoNormal" style="margin-bottom: 11pt; background-position: initial initial; background-repeat: initial initial;"><span style="font-size: 10.0pt; font-family: 'Arial','sans-serif'; mso-fareast-font-family: 'Times New Roman'; color: #222222; mso-fareast-language: RU;">- "Аналитический разбор "Откровение Иоанна Богослова" (2-3 главы)",  Шаклеин Анатолий (Красноярск, Россия)</span></p><br /><p class="MsoNormal" style="margin-bottom: 11pt; background-position: initial initial; background-repeat: initial initial;"><span style="font-size: 10.0pt; font-family: 'Arial','sans-serif'; mso-fareast-font-family: 'Times New Roman'; color: #222222; mso-fareast-language: RU;">- "О переходе власти к народу Божьему", Байфа Ульяна (Красноярск, Россия</span></p><br /><p class="MsoNormal" style="margin-bottom: 11pt; background-position: initial initial; background-repeat: initial initial;"><span style="font-size: 9.0pt; font-family: 'Arial','sans-serif'; mso-fareast-font-family: 'Times New Roman'; color: #333333; mso-fareast-language: RU;">Постоянными участниками собрания стали представители из разных стран: Израиль, Россия, Монголия, США, Украина, Голландия.</span></p><br /><p class="MsoNormal" style="margin: 11pt 0cm; background-position: initial initial; background-repeat: initial initial;"><span style="font-size: 9.0pt; font-family: 'Arial','sans-serif'; mso-fareast-font-family: 'Times New Roman'; color: #333333; mso-fareast-language: RU;">За два дня планируется провести 4 собрания - в субботу и воскресенье, по 2 утренних и 2 вечерних собрания, по 3 часа каждое. В перерывах между собраниями свободное общение. Утреннее собрание в 8.00ч., вечернее в 15.00ч. (время московское).</span></p><br /><p class="MsoNormal" style="margin: 11pt 0cm; background-position: initial initial; background-repeat: initial initial;"><span style="font-size: 9.0pt; font-family: 'Arial','sans-serif'; mso-fareast-font-family: 'Times New Roman'; color: #333333; mso-fareast-language: RU;">Межконфессиональное собрание организовано независимо от каких-либо фондов или организаций, является добровольным и открытым. В ходе рабочих встреч по целям Межконфессиональных собраний многие участники заявились со словом проповеди.</span></p><br /><p class="MsoNormal" style="margin: 11pt 0cm; background-position: initial initial; background-repeat: initial initial;"><span style="font-size: 9.0pt; font-family: 'Arial','sans-serif'; mso-fareast-font-family: 'Times New Roman'; color: #333333; mso-fareast-language: RU;">Каждый участник, желающий выступить, но еще не сделавший заявку, может связаться с координаторами по адресу <a href="mailto:unity@voiceofthecalling.org" target="_blank"><span style="mso-bidi-font-size: 11.0pt; color: #1155cc;">unity@voiceofthecalling.org</span></a>, для того, чтобы организаторы могли составить регламент выступлений, исходя из общего суммарного времени всех собраний. Все заявленные участники собрания могут действовать свободно и каждому будет предоставлено время. Возможность выступить не зависит от статуса выступающего: и лидерам и простым членам общений будет предоставлено равное право участвовать и действовать. Все участники обладают полной свободой действий в проповеди и предложениях. Все представители являются равноправными участниками собрания, принятие решений предлагается проводить простым голосованием и принимать большинством голосов. Главное – ни одна сторона не будет диктовать всем прочим свои нормы проведения собрания и будет проявлена полная веротерпимость ко всем представителям иных церквей и вероисповеданий, хотя бы на предоставленное время их действий и проповеди.</span></p><br /><p class="MsoNormal" style="margin: 11pt 0cm; background-position: initial initial; background-repeat: initial initial;"><span style="font-size: 9.0pt; font-family: 'Arial','sans-serif'; mso-fareast-font-family: 'Times New Roman'; color: #333333; mso-fareast-language: RU;">Для тех участников, кто не сможет присоединиться к собраниям по городам и участвовать очно, будет организована аудио-конференции через Интернет (Skype). Для этого необходимо прислать информацию с Вашим скайп - адресом на почту <a href="mailto:unity@voiceofthecalling.org" target="_blank"><span style="mso-bidi-font-size: 11.0pt; color: #1155cc;">unity@voiceofthecalling.org</span></a>. По вопросам интернет-связи желательно связаться с нами до 5 октября  2013. Планируется также провести аудио и видео запись собраний, с целью выпуска репортажей, фильмов и аудио записей для последующей публикации их в Интернет.</span></p><br /><p class="MsoNormal" style="margin: 11pt 0cm; background-position: initial initial; background-repeat: initial initial;"><span style="font-size: 9.0pt; font-family: 'Arial','sans-serif'; mso-fareast-font-family: 'Times New Roman'; color: #333333; mso-fareast-language: RU;">Для непосредственного участия и выступления, а также дискуссии на эту тему и подписки на получение информации по проекту «Межконфессиональные собрания» Вы можете связаться с нами:</span></p><br /><p class="MsoNormal" style="margin: 11pt 0cm; background-position: initial initial; background-repeat: initial initial;"><span style="font-size: 9.0pt; font-family: 'Arial','sans-serif'; mso-fareast-font-family: 'Times New Roman'; color: #333333; mso-fareast-language: RU;">· По электронной почте: <a href="mailto:unity@voiceofthecalling.org" target="_blank"><span style="mso-bidi-font-size: 11.0pt; color: #1155cc;">unity@voiceofthecalling.org</span></a></span></p><br /><p class="MsoNormal" style="margin: 11pt 0cm; background-position: initial initial; background-repeat: initial initial;"><span style="font-size: 9.0pt; font-family: 'Arial','sans-serif'; mso-fareast-font-family: 'Times New Roman'; color: #333333; mso-fareast-language: RU;">· На форуме в теме </span><span style="font-size: 10.0pt; font-family: 'Arial','sans-serif'; mso-fareast-font-family: 'Times New Roman'; color: #222222; mso-fareast-language: RU;"><a href="http://www.voiceofthecalling.com/forum.html" target="_blank"><span style="font-size: 9.0pt; mso-bidi-font-size: 11.0pt; color: #138bb3; text-decoration: none; text-underline: none;">“Межконфессиональное собрание”</span></a></span></p><br /><p class="MsoNormal" style="margin: 11pt 0cm; background-position: initial initial; background-repeat: initial initial;"><span style="font-size: 9.0pt; font-family: 'Arial','sans-serif'; mso-fareast-font-family: 'Times New Roman'; color: #333333; mso-fareast-language: RU;">· На Facebook в нашей группе </span><span style="font-size: 10.0pt; font-family: 'Arial','sans-serif'; mso-fareast-font-family: 'Times New Roman'; color: #222222; mso-fareast-language: RU;"><a href="http://www.facebook.com/TheValleyofJehoshaphat" target="_blank"><span style="font-size: 9.0pt; mso-bidi-font-size: 11.0pt; color: #333333; text-decoration: none; text-underline: none;">“Долина Иосафата”</span></a></span></p><br /><p class="MsoNormal" style="margin: 11pt 0cm; background-position: initial initial; background-repeat: initial initial;"><span style="font-size: 9.0pt; font-family: 'Arial','sans-serif'; mso-fareast-font-family: 'Times New Roman'; color: #333333; mso-fareast-language: RU;">· На нашем сайте "Глас вопиющего": </span><span style="font-size: 10.0pt; font-family: 'Arial','sans-serif'; mso-fareast-font-family: 'Times New Roman'; color: #222222; mso-fareast-language: RU;"><a href="http://www.voiceofthecalling.com/" target="_blank"><span style="font-size: 9.0pt; mso-bidi-font-size: 11.0pt; color: #138bb3; text-decoration: none; text-underline: none;">www.voiceofthecalling.com</span></a></span></p><br /><p> </p><br /><p class="MsoNormal" style="margin: 11pt 0cm; background-position: initial initial; background-repeat: initial initial;"><span style="font-size: 11.5pt; font-family: 'Arial','sans-serif'; mso-fareast-font-family: 'Times New Roman'; color: #222222; mso-fareast-language: RU;">Телефон для оперативной связи: 7-923-782-35-64 Ирина</span></p>\n\n</BODY>\n</HTML>

LOCATION:Красноярск, Орск, Москва, Израиль, другие города
END:VEVENT

END:VCALENDAR
