BEGIN:VCALENDAR
VERSION:2.0
PRODID:-//hacksw/handcal//NONSGML v1.0//EN
BEGIN:VEVENT
UID:d2d459af4312abf28c59e999d9e4a39b
DTSTAMP:20260421T000958Z

DTSTART:20131017T040000
DTEND:20140918T035959
SUMMARY:Практическое христианство
DESCRIPTION:Время сейчас последнее... Все что происходит на Земле - свидетельствует об этом.\nВ моем сердце есть  побуждение  призвать братьев к серьезному духовному(молитвенному) труду. \nДелать только то что угодно будет Господу, и ничего более.  Кто видит в своем духе отклик на сей призыв - отзовитесь, пишите.   Подробнее по тел. 8 4993901316 Петр  или в скайпе  peotr07                        от Иоанна 13:34-35 . 1 Петра 4:8.  Маранафа!\n \n 

X-ALT-DESC;FMTTYPE=text/html:<!DOCTYPE HTML PUBLIC "-//W3C//DTD HTML 3.2//EN">\n<HTML>\n<HEAD>\n<META NAME="Generator" CONTENT="MS Exchange Server version 08.00.0681.000">\n<TITLE></TITLE>\n</HEAD>\n<BODY>\n<!-- Converted from text/rtf format -->\n\n<p>Время сейчас последнее... Все что происходит на Земле - свидетельствует об этом.</p><br /><p>В моем сердце есть  побуждение  призвать братьев к серьезному духовному(молитвенному) труду. </p><br /><p>Делать только то что угодно будет Господу, и ничего более.  Кто видит в своем духе отклик на сей призыв - отзовитесь, пишите.   Подробнее по тел. 8 4993901316 Петр  или в скайпе  peotr07                        от Иоанна 13:34-35 . 1 Петра 4:8.  Маранафа!</p><br /><p> </p><br /><p> </p>\n\n</BODY>\n</HTML>

LOCATION:Москва
END:VEVENT

END:VCALENDAR
