BEGIN:VCALENDAR
VERSION:2.0
PRODID:-//hacksw/handcal//NONSGML v1.0//EN
BEGIN:VEVENT
UID:c7f00f7191c7a2569a046fed5206c7f3
DTSTAMP:20260421T033026Z

DTSTART:20140329T210000
DTEND:20140330T000000
SUMMARY:Международная молитва против антисемитизма и нацизма
DESCRIPTION:Международная молитва
против антисемитизма и нацизма
29 и 30 марта 2014 года

Всем, в ком горит огонь Божьей любви к Его народу!Всем, кому небезразлична судьба своей нации!

Уважаемые пастыря, братья и сестры!

Приглашаем Вас и Вашу церковь присоединиться к ежегодной Международной молитве против антисемитизма и нацизма!

http://kemokiev.org/prayagainst

X-ALT-DESC;FMTTYPE=text/html:<!DOCTYPE HTML PUBLIC "-//W3C//DTD HTML 3.2//EN">\n<HTML>\n<HEAD>\n<META NAME="Generator" CONTENT="MS Exchange Server version 08.00.0681.000">\n<TITLE></TITLE>\n</HEAD>\n<BODY>\n<!-- Converted from text/rtf format -->\n\nМеждународная молитва
против антисемитизма и нацизма
29 и 30 марта 2014 года

Всем, в ком горит огонь Божьей любви к Его народу!Всем, кому небезразлична судьба своей нации!

Уважаемые пастыря, братья и сестры!

Приглашаем Вас и Вашу церковь присоединиться к ежегодной Международной молитве против антисемитизма и нацизма!

http://kemokiev.org/prayagainst\n\n</BODY>\n</HTML>

LOCATION:Киев, ул. Жмаченко 20 
END:VEVENT

END:VCALENDAR
