BEGIN:VCALENDAR
VERSION:2.0
PRODID:-//hacksw/handcal//NONSGML v1.0//EN
BEGIN:VEVENT
UID:821cb31d6bd319316211390e2e61001d
DTSTAMP:20260421T051624Z

DTSTART:20140613T040000
DTEND:20140702T035959
SUMMARY: SOS СПАСИТЕ ЖИЗНЬ ЧЕЛОВЕКУ
DESCRIPTION: karitas.md/index.php?action...help&id=73\nВалентина Руденко, 40 лет, с. Берлинец, Бричанский р-н\nСрочно необходимы средства на восстановительное лечение!\nДиагноз: Политравма в результате ДТП.\nОбщая сумма 10560 евро.\nОлексий Руденко родом из Украины. Женившись и переехав в молдавское  с. Берлинец, он стал жить обычной для молдавского мужчины жизнью - заработки, редкие визиты домой, где ждала его любимая жена Валентина и подрастала красавица дочь, Анжелина, встречи и прощания, разлуки, тяжёлая работа на чужбине и звонки домой... Так живут все. Всё оборвалось в один момент - судьба испытывает на прочность семью Руденко, и только любовь помогает им выжить и бороться с тем, что не пожелаешь никому, даже злым завистникам. Сейчас, когда ситуация совсем тупиковая, Олексий готов поделиться с вами тем, что никогда бы не рассказал: он не привык ныть и жаловаться, он - настоящий борец. Мы просим прочесть его письмо, и попытаться оказать посильную помощь семье Руденко - материальную, юридическую, помощь добрым советом и делом.\n" Моя супруга, Валентина, работала социальным работником по уходу за престарелыми людьми в селе Берлинец. Жили тихо, я работал в России.\nВсё рухнуло 4 ноября 2012 года. Я летел домой с заработков, жена и дочь, Ангелинка, ехали в аэропорт встречать мой самолёт на такси фирмы "Мега-такси".  В районе г. Рышканы произошло ДТП. Моя доченька, Ангелинка оказалась в больнице г. Рышканы с сотрясением мозга и контузией позвоночника, а супругу Валюшу отправили в больницу г. Бельцы - срочно требовалась операция на позвоночнике. Перед операцией врач-нейрохирург Виорел Гуранда предупредил, что шансов на жизнь у Валюши один из десяти тысяч -  её состояние было крайне критическим, с такими травмами люди более двух недель не живут. Валя, вопреки печальным прогнозам врачей, пережила крайне критический период в жизни.\nДля того, чтобы провести операцию и лечить Ангелинку, мы продали всё, что могли: автомобиль, землю, корову, а виновник ДТПи служба такси не помогли нам ничем. Пенсии в 499 леев по 1 группе инвалидности Вали попросту хватает на 2 дня лечения.\nЯ, Валя и Ангелинка очень надеемся, что Валя всё же встанет на ноги! Главврач отделения нейрохирургии г-н Виорел Гуранда, с которым мы консультируемся после операции, сказал, что шанс того, что она встанет на ноги есть, только нужно лечиться, а лечение дорогостоящее.\nМоя Валюша очень сильная. Она очень хочет жить, ходить ногами, как все люди а, самое главное, мечтает вернуться на прежнюю работу, быть социальным работником и, так же, как и прежде, ухаживать за пожилыми людьми села Берлинец, приносить радость, улыбку, делать добро бабушкам и дедушкам.\nЯ ОБРАЩАЮСЬ К ВАМ, ДОБРЫЕ И НЕ БЕЗРАЗЛИЧНЫЕ К ЧУЖОМУ ГОРЮ ЛЮДИ! ПОМОГИТЕ СПАСТИ МОЮ ВАЛЕЧКУ - ДОБРУЮ, ЛАСКОВУЮ И ЗАБОТЛИВУЮ ЖЕНЩИНУ. ОНА БЫЛА НА ГРАНИ ЖИЗНИ И СМЕРТИ, НО БОРЕТСЯ ЗА ПОЛНОЦЕННУЮ ЖИЗНЬ, ЧТОБЫ ПРИНОСИТЬ ДОБРО ЛЮДЯМ, КАК И ПРЕЖДЕ!"\nДрузья! Ситуация, в которой оказалась семья Руденко, критическая. Состояние и здоровье Валентины, а так же материальное положение семьи сейчас зависит только от вас - людей, которые, так же, как совсем недавно Валентина, не могут не помочь оказавшимся в беде. Добрых людей больше, чем жадных и злых - вместе мы способны преодолеть любые трудности, нам нужно только сплотиться. Мы верим в это. И знаем, что вы - с нами!\nСейчас Валентине нужны деньги на операци. Все финансовые ресурсы семьи исчерпаны, а виновник трагедии не выплачивает пострадавшим ни лея.\n\nВсё, чем сейчас богаты Олексий, Валентина и Ангелинка Руденко - это любовь. Всё, чем они живут сейчас – вера в то, что беда, в которой они оказались, преодолима. Вера в отзывчивость таких же, как они простых, добрых и честных людей.\nТелефоны: Олексий (муж Валентины): +373 /247/ 64110, +373 60443045                                                                                                                              Счет на яндекс деньги - 410012037833069                                                                                                                                                                                     карта Visa-$ №4627 6885 3028 1986 VALENTINA RUDENCO

X-ALT-DESC;FMTTYPE=text/html:<!DOCTYPE HTML PUBLIC "-//W3C//DTD HTML 3.2//EN">\n<HTML>\n<HEAD>\n<META NAME="Generator" CONTENT="MS Exchange Server version 08.00.0681.000">\n<TITLE></TITLE>\n</HEAD>\n<BODY>\n<!-- Converted from text/rtf format -->\n\n<p><span style="font-family: Verdana; font-size: 13px; line-height: 22px; text-align: justify;"> </span><strong style="color: #696969; position: relative; font-family: Verdana; font-size: 13px; line-height: 22px; text-align: justify;"><a href="http://www.liveinternet.ru/journal_proc.php?action=redirect&url=http://karitas.md/index.php?action=need_help&id=73" target="_blank" style="color: #696969; position: relative; font-family: Verdana; font-size: 13px; line-height: 22px; text-align: justify;">karitas.md/index.php?action...help&id=73</a></strong></p><br /><p style="padding: 0px; margin: 0px 0px 7px; font-family: Verdana; font-size: 13px; line-height: 22px; text-align: justify;"><em><strong>Валентина Руденко, 40 лет, с. Берлинец, Бричанский р-н</strong></em></p><br /><p style="padding: 0px; margin: 0px 0px 7px; font-family: Verdana; font-size: 13px; line-height: 22px; text-align: justify;"><em><strong>Срочно необходимы средства на восстановительное лечение!</strong></em></p><br /><p style="padding: 0px; margin: 0px 0px 7px; font-family: Verdana; font-size: 13px; line-height: 22px; text-align: justify;"><em><strong>Диагноз: Политравма в результате ДТП.</strong></em></p><br /><p style="padding: 0px; margin: 0px 0px 7px; font-family: Verdana; font-size: 13px; line-height: 22px; text-align: justify;"><em><strong>Общая сумма 10560 евро.</strong></em></p><br /><p style="padding: 0px; margin: 0px 0px 7px; font-family: Verdana; font-size: 13px; line-height: 22px; text-align: justify;"><em><strong>Олексий Руденко родом из Украины. Женившись и переехав в молдавское  с. Берлинец, он стал жить обычной для молдавского мужчины жизнью - заработки, редкие визиты домой, где ждала его любимая жена Валентина и подрастала красавица дочь, Анжелина, встречи и прощания, разлуки, тяжёлая работа на чужбине и звонки домой... Так живут все. Всё оборвалось в один момент - судьба испытывает на прочность семью Руденко, и только любовь помогает им выжить и бороться с тем, что не пожелаешь никому, даже злым завистникам. Сейчас, когда ситуация совсем тупиковая, Олексий готов поделиться с вами тем, что никогда бы не рассказал: он не привык ныть и жаловаться, он - настоящий борец. Мы просим прочесть его письмо, и попытаться оказать посильную помощь семье Руденко - материальную, юридическую, помощь добрым советом и делом.</strong></em></p><br /><p style="padding: 0px; margin: 0px 0px 7px; font-family: Verdana; font-size: 13px; line-height: 22px; text-align: justify;"><em><strong>" Моя супруга, Валентина, работала социальным работником по уходу за престарелыми людьми в селе Берлинец. Жили тихо, я работал в России.<br />Всё рухнуло 4 ноября 2012 года. Я летел домой с заработков, жена и дочь, Ангелинка, ехали в аэропорт встречать мой самолёт на такси фирмы "Мега-такси".  В районе г. Рышканы произошло ДТП. Моя доченька, Ангелинка оказалась в больнице г. Рышканы с сотрясением мозга и контузией позвоночника, а супругу Валюшу отправили в больницу г. Бельцы - срочно требовалась операция на позвоночнике. Перед операцией врач-нейрохирург Виорел Гуранда предупредил, что шансов на жизнь у Валюши один из десяти тысяч -  её состояние было крайне критическим, с такими травмами люди более двух недель не живут. Валя, вопреки печальным прогнозам врачей, пережила крайне критический период в жизни.</strong></em></p><br /><p style="padding: 0px; margin: 0px 0px 7px; font-family: Verdana; font-size: 13px; line-height: 22px; text-align: justify;"><em><strong>Для того, чтобы провести операцию и лечить Ангелинку, мы продали всё, что могли: автомобиль, землю, корову, а виновник ДТПи служба такси не помогли нам ничем. Пенсии в 499 леев по 1 группе инвалидности Вали попросту хватает на 2 дня лечения.<br />Я, Валя и Ангелинка очень надеемся, что Валя всё же встанет на ноги! Главврач отделения нейрохирургии г-н Виорел Гуранда, с которым мы консультируемся после операции, сказал, что шанс того, что она встанет на ноги есть, только нужно лечиться, а лечение дорогостоящее.<br />Моя Валюша очень сильная. Она очень хочет жить, ходить ногами, как все люди а, самое главное, мечтает вернуться на прежнюю работу, быть социальным работником и, так же, как и прежде, ухаживать за пожилыми людьми села Берлинец, приносить радость, улыбку, делать добро бабушкам и дедушкам.</strong></em></p><br /><p style="padding: 0px; margin: 0px 0px 7px; font-family: Verdana; font-size: 13px; line-height: 22px; text-align: justify;"><em><strong>Я ОБРАЩАЮСЬ К ВАМ, ДОБРЫЕ И НЕ БЕЗРАЗЛИЧНЫЕ К ЧУЖОМУ ГОРЮ ЛЮДИ! ПОМОГИТЕ СПАСТИ МОЮ ВАЛЕЧКУ - ДОБРУЮ, ЛАСКОВУЮ И ЗАБОТЛИВУЮ ЖЕНЩИНУ. ОНА БЫЛА НА ГРАНИ ЖИЗНИ И СМЕРТИ, НО БОРЕТСЯ ЗА ПОЛНОЦЕННУЮ ЖИЗНЬ, ЧТОБЫ ПРИНОСИТЬ ДОБРО ЛЮДЯМ, КАК И ПРЕЖДЕ!"</strong></em></p><br /><p style="padding: 0px; margin: 0px 0px 7px; font-family: Verdana; font-size: 13px; line-height: 22px; text-align: justify;"><em><strong>Друзья! Ситуация, в которой оказалась семья Руденко, критическая. Состояние и здоровье Валентины, а так же материальное положение семьи сейчас зависит только от вас - людей, которые, так же, как совсем недавно Валентина, не могут не помочь оказавшимся в беде. Добрых людей больше, чем жадных и злых - вместе мы способны преодолеть любые трудности, нам нужно только сплотиться. Мы верим в это. И знаем, что вы - с нами!</strong></em></p><br /><p style="padding: 0px; margin: 0px 0px 7px; font-family: Verdana; font-size: 13px; line-height: 22px; text-align: justify;"><em><strong>Сейчас Валентине нужны деньги на операци. Все финансовые ресурсы семьи исчерпаны, а виновник трагедии не выплачивает пострадавшим ни лея.<br /><br />Всё, чем сейчас богаты Олексий, Валентина и Ангелинка Руденко - это любовь. Всё, чем они живут сейчас – вера в то, что беда, в которой они оказались, преодолима. Вера в отзывчивость таких же, как они простых, добрых и честных людей.</strong></em></p><br /><p style="padding: 0px; margin: 0px 0px 7px; font-family: Verdana; font-size: 13px; line-height: 22px; text-align: justify;"><em><strong>Телефоны: Олексий (муж Валентины): +373 /247/ 64110, +373 60443045                                                                                                                              Счет на яндекс деньги - 410012037833069                                                                                                                                                                                     карта Visa-$ №4627 6885 3028 1986 VALENTINA RUDENCO</strong></em></p>\n\n</BODY>\n</HTML>

LOCATION:Молдова
END:VEVENT

END:VCALENDAR
