BEGIN:VCALENDAR
VERSION:2.0
PRODID:-//hacksw/handcal//NONSGML v1.0//EN
BEGIN:VEVENT
UID:bd7c686d63ce84644b41f42437863510
DTSTAMP:20260421T065316Z

DTSTART:20140915T040000
DTEND:20141010T040000
SUMMARY:Колледж "Гора Моисея 2014"
DESCRIPTION:Обращайтесь, помогу во всем)))

X-ALT-DESC;FMTTYPE=text/html:<!DOCTYPE HTML PUBLIC "-//W3C//DTD HTML 3.2//EN">\n<HTML>\n<HEAD>\n<META NAME="Generator" CONTENT="MS Exchange Server version 08.00.0681.000">\n<TITLE></TITLE>\n</HEAD>\n<BODY>\n<!-- Converted from text/rtf format -->\n\nОбращайтесь, помогу во всем)))\n\n</BODY>\n</HTML>

LOCATION:Киев, Украина
END:VEVENT

END:VCALENDAR
