BEGIN:VCALENDAR
VERSION:2.0
PRODID:-//hacksw/handcal//NONSGML v1.0//EN
BEGIN:VEVENT
UID:c30925e2100f324e098aaa650e7be34e
DTSTAMP:20260421T032340Z

DTSTART:20151023T130000
DTEND:20151024T130000
SUMMARY:Нестабильные времена-Ищите Царства Божьего
DESCRIPTION:В  Санкт-Петербурге 23-24 октября состоится семинар ICCC (Международная Христианская Торговая Палата) России, Северо-Западного региона. 
Будем рассматривать такие актуальные как: Бизнес без границ, Нестабильные времена-ищите Царства Божьего, Экономическое положение в мире, Большее призвание, Как сохранить мир(Божий Покой) в кризис и многое другое. 

X-ALT-DESC;FMTTYPE=text/html:<!DOCTYPE HTML PUBLIC "-//W3C//DTD HTML 3.2//EN">\n<HTML>\n<HEAD>\n<META NAME="Generator" CONTENT="MS Exchange Server version 08.00.0681.000">\n<TITLE></TITLE>\n</HEAD>\n<BODY>\n<!-- Converted from text/rtf format -->\n\nВ  Санкт-Петербурге 23-24 октября состоится семинар ICCC (Международная Христианская Торговая Палата) России, Северо-Западного региона. 
Будем рассматривать такие актуальные как: Бизнес без границ, Нестабильные времена-ищите Царства Божьего, Экономическое положение в мире, Большее призвание, Как сохранить мир(Божий Покой) в кризис и многое другое. \n\n</BODY>\n</HTML>

LOCATION:
END:VEVENT

END:VCALENDAR
