BEGIN:VCALENDAR
VERSION:2.0
PRODID:-//hacksw/handcal//NONSGML v1.0//EN
BEGIN:VEVENT
UID:367afb8785c20c438e962533836b1b26
DTSTAMP:20260421T004334Z

DTSTART:20160820T080000
DTEND:20160830T200000
SUMMARY:Преглашаем на Христианский Фестиваль Единства
DESCRIPTION:Церкви города Очакова приглашают всех желающих принять участие в христианском межконфессиональном фестивале Единства!

Миссия:
Единство между церквями и конфессиями! Единство в семьях!
Единство и целостностьУкраины!

Мы собираемся на берегу Черного моря для совместного прославления и поклонения Богу, молитв, обучения, взаимного ободрения, христианского общения и отдыха.

Программа фестиваля:
Выступление известных христианских исполнителей и команд прославления.
Тренинги и семинары на темы семейных отношений, развития бизнеса и здорового образа жизни.

Утром - совместная молитва.
Днем - море, отдых, экскурсии, общение.
Вечером - прославление, молитвы, проповеди.

Даты проведения:
С 20 до 30 августа. Приехать можно в любой день до начала фестиваля и остаться на отдых после проекта. Минимальный срок пребывания — 5 дней. Двери санатория открыты весь сезон.

Цель фестиваля:
- Каждому участнику подняться на новый уровень духа, души и тела;
- Совместное общение и отдых в дружеской христианской атмосфере;
- Обмен жизненными свидетельствами и ободрение друг друга;
- Развитие всевозможных талантов и даров, которые заложил в нас Бог;

Вы сможете провести незабываемое время с Богом и Его творением, оздоровиться, завести новых друзей, найти спутника жизни :)

Место проведения:
Гостеприимный санаторий "Ольвия" приглашает на незабываемый отдых.
Комплекс расположен на берегу Черного моря в г.Очаков Николаевской области и занимает площадь 12 гектаров.
На территории комплекса высажено около 4000 деревьев, свыше 6000 декоративных кустарников и множество цветочных клумб.
Комплекс предоставляет 2-х, 3-х и 4-х местные номера. На два номера имеется совместный, с разными входами, санузел (туалет и умывальник). Из крана в номере течет минеральная гидрокарбонатно-натриевая минеральная питьевая вода! Душ находится в отдельном здании, работает ежедневно с 10-ти до 20-ти часов. 
К услугам отдыхающих летний кинотеатр, видеозал, бильярдная, благоустроенный песчаный пляж, футбольная и волейбольная площадки.
В столовой предлагается разнообразное одно-, двух- и трехразовое питание. Оплата по факту заказа на месте в столовой.

Платные экскурсии: прогулки по Черному морю с посещением национального парка на Кинбурнской косе, археологического заповедника "Ольвия", поездки в Одессу и Николаев.
Для групп отдыхающих (40 человек и более) организовываются, за отдельную плату, встречи приезжающих на отдых и проводы отъезжающих на ж/д вокзалы Одессы и Николаева специальными автобусами. 

Как добраться: 
Адрес: Николаевская область, г. Очаков, ул. Строителей, 7, санаторий «Ольвия»
Приехав на ж/д вокзалы Николаева и Одессы, до г. Очакова добраться  маршрутными автобусами с междугородних автовокзалов, затем с автовокзала г. Очакова рейсовыми автобусами №1 или №2 до остановки "Ольвия".

Стоимость проживания: 
Один взрослый в сутки - 80 грн., детям - 40 грн. Дети без предоставления отдельного спального места — бесплатно.

Питание:
К услугам гостей ресторан-столовая.
Трехразовое питание в среднем - 150 грн. в день. Оплата по факту заказа из меню на месте.
Также можно питаться самостоятельно, взяв с собой мультиварку, чайник, кипятильник (возьмите также удлинитель).
Рядом находится супермаркет, аптека и мини рынок.

Примечание:
Количество мест ограничено и предварительная регистрация обязательна.

Телефоны оргкомитета: 
MTC +38 099 680-22-47

X-ALT-DESC;FMTTYPE=text/html:<!DOCTYPE HTML PUBLIC "-//W3C//DTD HTML 3.2//EN">\n<HTML>\n<HEAD>\n<META NAME="Generator" CONTENT="MS Exchange Server version 08.00.0681.000">\n<TITLE></TITLE>\n</HEAD>\n<BODY>\n<!-- Converted from text/rtf format -->\n\nЦеркви города Очакова приглашают всех желающих принять участие в христианском межконфессиональном фестивале Единства!

Миссия:
Единство между церквями и конфессиями! Единство в семьях!
Единство и целостностьУкраины!

Мы собираемся на берегу Черного моря для совместного прославления и поклонения Богу, молитв, обучения, взаимного ободрения, христианского общения и отдыха.

Программа фестиваля:
Выступление известных христианских исполнителей и команд прославления.
Тренинги и семинары на темы семейных отношений, развития бизнеса и здорового образа жизни.

Утром - совместная молитва.
Днем - море, отдых, экскурсии, общение.
Вечером - прославление, молитвы, проповеди.

Даты проведения:
С 20 до 30 августа. Приехать можно в любой день до начала фестиваля и остаться на отдых после проекта. Минимальный срок пребывания — 5 дней. Двери санатория открыты весь сезон.

Цель фестиваля:
- Каждому участнику подняться на новый уровень духа, души и тела;
- Совместное общение и отдых в дружеской христианской атмосфере;
- Обмен жизненными свидетельствами и ободрение друг друга;
- Развитие всевозможных талантов и даров, которые заложил в нас Бог;

Вы сможете провести незабываемое время с Богом и Его творением, оздоровиться, завести новых друзей, найти спутника жизни :)

Место проведения:
Гостеприимный санаторий "Ольвия" приглашает на незабываемый отдых.
Комплекс расположен на берегу Черного моря в г.Очаков Николаевской области и занимает площадь 12 гектаров.
На территории комплекса высажено около 4000 деревьев, свыше 6000 декоративных кустарников и множество цветочных клумб.
Комплекс предоставляет 2-х, 3-х и 4-х местные номера. На два номера имеется совместный, с разными входами, санузел (туалет и умывальник). Из крана в номере течет минеральная гидрокарбонатно-натриевая минеральная питьевая вода! Душ находится в отдельном здании, работает ежедневно с 10-ти до 20-ти часов. 
К услугам отдыхающих летний кинотеатр, видеозал, бильярдная, благоустроенный песчаный пляж, футбольная и волейбольная площадки.
В столовой предлагается разнообразное одно-, двух- и трехразовое питание. Оплата по факту заказа на месте в столовой.

Платные экскурсии: прогулки по Черному морю с посещением национального парка на Кинбурнской косе, археологического заповедника "Ольвия", поездки в Одессу и Николаев.
Для групп отдыхающих (40 человек и более) организовываются, за отдельную плату, встречи приезжающих на отдых и проводы отъезжающих на ж/д вокзалы Одессы и Николаева специальными автобусами. 

Как добраться: 
Адрес: Николаевская область, г. Очаков, ул. Строителей, 7, санаторий «Ольвия»
Приехав на ж/д вокзалы Николаева и Одессы, до г. Очакова добраться  маршрутными автобусами с междугородних автовокзалов, затем с автовокзала г. Очакова рейсовыми автобусами №1 или №2 до остановки "Ольвия".

Стоимость проживания: 
Один взрослый в сутки - 80 грн., детям - 40 грн. Дети без предоставления отдельного спального места — бесплатно.

Питание:
К услугам гостей ресторан-столовая.
Трехразовое питание в среднем - 150 грн. в день. Оплата по факту заказа из меню на месте.
Также можно питаться самостоятельно, взяв с собой мультиварку, чайник, кипятильник (возьмите также удлинитель).
Рядом находится супермаркет, аптека и мини рынок.

Примечание:
Количество мест ограничено и предварительная регистрация обязательна.

Телефоны оргкомитета: 
MTC +38 099 680-22-47\n\n</BODY>\n</HTML>

LOCATION:
END:VEVENT

END:VCALENDAR
