BEGIN:VCALENDAR
VERSION:2.0
PRODID:-//hacksw/handcal//NONSGML v1.0//EN
BEGIN:VEVENT
UID:66c2c9093ad213906f76f96db05215c9
DTSTAMP:20260421T013627Z

DTSTART:20170416T160000
DTEND:20170416T190000
SUMMARY:ПАСХА | Торжественный вечер в Твоей Церкви
DESCRIPTION:«Христос Воскрес! Воистину воскрес!»

Ну, кто из нас не произносил этих слов? Кто из нас не знает, кто такой Христос? Или кто из нас не знает этой библейской истории?
А как много среди нас тех, кто пытался осмыслить это в голове, представить, что значит – «воскрес»? И что более интересно: почему спустя более двух тысяч лет люди придают этому событию такое значение?

Воскресение Христа – это не сказка и не выдумка. Это реальная история, которой восхищаются уже множества поколений. Это подаренное всему миру наследие. И даже больше. Это победа Жизни над смертью!

И символ Пасхи не кулич с яйцами, а сам Иисус Христос. Он победил смерть, чтобы подарить нам Жизнь! Жизнь лучшую, жизнь светлую и полную смысла.

«Твоя Церковь» - это люди, которые обрели такую жизнь.
«Твоя Церковь» - это место, где не скрывают этот «Тайник радости и смысла» от других.
«Твоя Церковь» будет рада поделиться им с Вами!

Подробности: http://yourchurch.ru/event/easter/

X-ALT-DESC;FMTTYPE=text/html:<!DOCTYPE HTML PUBLIC "-//W3C//DTD HTML 3.2//EN">\n<HTML>\n<HEAD>\n<META NAME="Generator" CONTENT="MS Exchange Server version 08.00.0681.000">\n<TITLE></TITLE>\n</HEAD>\n<BODY>\n<!-- Converted from text/rtf format -->\n\n«Христос Воскрес! Воистину воскрес!»

Ну, кто из нас не произносил этих слов? Кто из нас не знает, кто такой Христос? Или кто из нас не знает этой библейской истории?
А как много среди нас тех, кто пытался осмыслить это в голове, представить, что значит – «воскрес»? И что более интересно: почему спустя более двух тысяч лет люди придают этому событию такое значение?

Воскресение Христа – это не сказка и не выдумка. Это реальная история, которой восхищаются уже множества поколений. Это подаренное всему миру наследие. И даже больше. Это победа Жизни над смертью!

И символ Пасхи не кулич с яйцами, а сам Иисус Христос. Он победил смерть, чтобы подарить нам Жизнь! Жизнь лучшую, жизнь светлую и полную смысла.

«Твоя Церковь» - это люди, которые обрели такую жизнь.
«Твоя Церковь» - это место, где не скрывают этот «Тайник радости и смысла» от других.
«Твоя Церковь» будет рада поделиться им с Вами!

Подробности: http://yourchurch.ru/event/easter/\n\n</BODY>\n</HTML>

LOCATION:
END:VEVENT

END:VCALENDAR
