BEGIN:VCALENDAR
VERSION:2.0
PRODID:-//hacksw/handcal//NONSGML v1.0//EN
BEGIN:VEVENT
UID:ed707deb15ce4448216ede0d31e15260
DTSTAMP:20260421T094223Z

DTSTART:20240811T120000
DTEND:20240811T120000
SUMMARY:Паломнический Тур «Царская Русь» по святым местам исконно русского города Переславля-Залесского, Ярославская область
DESCRIPTION:В программе тура:\n\n1. Свято-Троицкий Данилов мужской монастырь:• Мощи святого Даниила (Святые, нетленные мощи преподобного и богоносного отца нашего Даниила составляют украшение и утверждение града и обители его; и всем с верою, упованием и любовью притекающим к ним источают исцеление душевных и телесных болезней),• общение с настоятелем Пантилимоном, •\n2. Никитский мужской монастырь (главной святыней Никитского монастыря являются мощи и вериги преподобного Никиты Столпника. Верующие едут сюда за исцелением от различных недугов, избавлению от хворей.): • монастырь, • целебный источник Никиты Столпника (купание).\n3. Свято-Никольский женский монастырь ( Частицы мощей, находящиеся в обители:\n* Корсунский крест (C XVII века известен в летописи Никольского Переславского.\n* Мощи преподобного Корнилия Молчальника, Переславского чудотворца\n* Мощи святого благоверного князя Андрея Смоленского\n* Икона святителя Николая с частицей мощей\n* Рака с 84 частицами мощей Киево-Печерских святых\n* Икона святого благоверного князя Александра Невского с частицей мощей\n* Икона святителя Луки (Войно-Ясенецкого) с частицей мощей\n* Икона святителя Лазаря Четверодневного, епископа Китийского с частицей мощей\n* Икона священномученика Климента, папы Римского с частицей мощей\n* Икона святителя Николая Чудотворца с частицей мощей\n* Икона святого мученика Виктора с частицей мощей\n* Икона святого праведного Иоанна Русского с частицей мощей)\n\nОрганизационные детали:\n•Все монастыри действующие, учитывайте правила посещения: женщинам обязательны платки и юбки, закрытые плечи; мужчинам - брюки, длинные рукава.\nДля тех, кто будет купаться в источнике взять вещи, полотенца и тапочки, необходимые для купания.\n\nВ стоимость входит трансфер в обе стороны.\nЭкскурсия с гидом "Свято- Троицкий Данилов мужской монастырь"\n(Сувениры, питание, свечи и записки за свой счёт)\n\nВыезд из Москвы в 6:00\nВозвращение в 20:00\n\nСтоимость тура: 3500 руб.\n——————————————————————-\n\nhttps://telegra.ph/Pereslavl-Zalesskij-08-04

X-ALT-DESC;FMTTYPE=text/html:<!DOCTYPE HTML PUBLIC "-//W3C//DTD HTML 3.2//EN">\n<HTML>\n<HEAD>\n<META NAME="Generator" CONTENT="MS Exchange Server version 08.00.0681.000">\n<TITLE></TITLE>\n</HEAD>\n<BODY>\n<!-- Converted from text/rtf format -->\n\nВ программе тура:<br /><br />1. Свято-Троицкий Данилов мужской монастырь:• Мощи святого Даниила (Святые, нетленные мощи преподобного и богоносного отца нашего Даниила составляют украшение и утверждение града и обители его; и всем с верою, упованием и любовью притекающим к ним источают исцеление душевных и телесных болезней),• общение с настоятелем Пантилимоном, •<br />2. Никитский мужской монастырь (главной святыней Никитского монастыря являются мощи и вериги преподобного Никиты Столпника. Верующие едут сюда за исцелением от различных недугов, избавлению от хворей.): • монастырь, • целебный источник Никиты Столпника (купание).<br />3. Свято-Никольский женский монастырь ( Частицы мощей, находящиеся в обители:<br />* Корсунский крест (C XVII века известен в летописи Никольского Переславского.<br />* Мощи преподобного Корнилия Молчальника, Переславского чудотворца<br />* Мощи святого благоверного князя Андрея Смоленского<br />* Икона святителя Николая с частицей мощей<br />* Рака с 84 частицами мощей Киево-Печерских святых<br />* Икона святого благоверного князя Александра Невского с частицей мощей<br />* Икона святителя Луки (Войно-Ясенецкого) с частицей мощей<br />* Икона святителя Лазаря Четверодневного, епископа Китийского с частицей мощей<br />* Икона священномученика Климента, папы Римского с частицей мощей<br />* Икона святителя Николая Чудотворца с частицей мощей<br />* Икона святого мученика Виктора с частицей мощей<br />* Икона святого праведного Иоанна Русского с частицей мощей)<br /><br />Организационные детали:<br />•Все монастыри действующие, учитывайте правила посещения: женщинам обязательны платки и юбки, закрытые плечи; мужчинам - брюки, длинные рукава.<br />Для тех, кто будет купаться в источнике взять вещи, полотенца и тапочки, необходимые для купания.<br /><br />В стоимость входит трансфер в обе стороны.<br />Экскурсия с гидом "Свято- Троицкий Данилов мужской монастырь"<br />(Сувениры, питание, свечи и записки за свой счёт)<br /><br />Выезд из Москвы в 6:00<br />Возвращение в 20:00<br /><br />Стоимость тура: 3500 руб.<br />——————————————————————-<br /><br />https://telegra.ph/Pereslavl-Zalesskij-08-04\n\n</BODY>\n</HTML>

LOCATION:
END:VEVENT

END:VCALENDAR
