BEGIN:VCALENDAR
VERSION:2.0
PRODID:-//hacksw/handcal//NONSGML v1.0//EN
BEGIN:VEVENT
UID:97c61e2cece596a964b15cb790319b97
DTSTAMP:20260421T080949Z

DTSTART:20240818T060000
DTEND:20240818T220000
SUMMARY:Паломнический Тур к Животворящему кресту в Годыново
DESCRIPTION:\nПаломнический Тур к Животворящему кресту в Годыново\n\n(https://telegra.ph/Godenovo-ZHivotvoryashchij-Krest-08-02)\n\nВ программе тура\n\n1. Село Годеново\n* Мужской монастырь Животворящего Креста-место явления Животворящего Креста, 5 км., село Погост Крест Ильинского района Ивановской области\n* Храм Иоанна Златоуста — место нахождения Животворящего Креста, сошедшего с Небес 11 июня 1423 года.\n* Трапеза\n* 2. Троицкий Данилов мужской монастырь (святыни: мощи Святого Даниила Переславль-Залесского),\n* вечерняя служба,\n* общение с настоятелем монастыря Пантилимоном (по -возможности).\n* Возвращение в Москву\n\nСтоимость тура: 3500 ₽\n\nОрганизационные детали\n\n•Все монастыри действующие, учитывайте правила посещения: женщинам обязательны платки и юбки, закрытые плечи; мужчинам - брюки, длинные рукава.\n\nВ стоимость входит только трансфер в обе стороны. (Сувениры, питание, свечи и записки за свой счёт)\n\nВыезд из Москвы в 6:00 \nВозвращение в 20:00\n——————————————————————-

X-ALT-DESC;FMTTYPE=text/html:<!DOCTYPE HTML PUBLIC "-//W3C//DTD HTML 3.2//EN">\n<HTML>\n<HEAD>\n<META NAME="Generator" CONTENT="MS Exchange Server version 08.00.0681.000">\n<TITLE></TITLE>\n</HEAD>\n<BODY>\n<!-- Converted from text/rtf format -->\n\n<br />Паломнический Тур к Животворящему кресту в Годыново<br /><br />(https://telegra.ph/Godenovo-ZHivotvoryashchij-Krest-08-02)<br /><br />В программе тура<br /><br />1. Село Годеново<br />* Мужской монастырь Животворящего Креста-место явления Животворящего Креста, 5 км., село Погост Крест Ильинского района Ивановской области<br />* Храм Иоанна Златоуста — место нахождения Животворящего Креста, сошедшего с Небес 11 июня 1423 года.<br />* Трапеза<br />* 2. Троицкий Данилов мужской монастырь (святыни: мощи Святого Даниила Переславль-Залесского),<br />* вечерняя служба,<br />* общение с настоятелем монастыря Пантилимоном (по -возможности).<br />* Возвращение в Москву<br /><br />Стоимость тура: 3500 ₽<br /><br />Организационные детали<br /><br />•Все монастыри действующие, учитывайте правила посещения: женщинам обязательны платки и юбки, закрытые плечи; мужчинам - брюки, длинные рукава.<br /><br />В стоимость входит только трансфер в обе стороны. (Сувениры, питание, свечи и записки за свой счёт)<br /><br />Выезд из Москвы в 6:00 <br />Возвращение в 20:00<br />——————————————————————-\n\n</BODY>\n</HTML>

LOCATION:Москва, Россия
END:VEVENT

END:VCALENDAR
