BEGIN:VCALENDAR
VERSION:2.0
PRODID:-//hacksw/handcal//NONSGML v1.0//EN
BEGIN:VEVENT
UID:0ce698f8c27861642fc91d9be098e9b2
DTSTAMP:20260421T100017Z

DTSTART:20240830T060000
DTEND:20240830T180000
SUMMARY:✨*Паломничество к Матушке Ефврасинье: Обретение Утешения и Наставления* ✨
DESCRIPTION:Дорогие братья и сестры! Приглашаем вас в удивительное путешествие к Матушке Ефврасинье, которая с любовью принимает всех без исключения. Она знает, как важно каждому из нас найти поддержку и понимание в трудные времена. Матушка не только выслушает ваши проблемы, но и даст мудрые наставления, помогая разобраться в грехах нашего рода.\n*Путь к очищению*\nМатушка Ефврасинья щедро принимает на себя отмаливание семей от грехов рода, разбирая их с любовью и терпением. Она поможет составить древо вашего рода, указав на то, что требует большего внимания для исцеления и избавления от существующих проблем. Матушка дарит надежду и возможность начать новую жизнь, свободную от тяжести прошлого. Матушке можно донести свои переживания и получить ценные советы. Вы сможете так же оставить записки с просьбами о помощи.\n️ *Горицкий Успенский монастырь* ️\nВ рамках наших паломнических туров мы организуем поездки в Горицкий Успенский монастырь в Переславле-Залесском. Здесь почти 2 года мироточили 12 икон, слух о которых уже распространился за пределы территории России. Горецкий монастырь сохраняет в себе древнейшую историю Руси, олицетворяя времена великих царей. Мало кто знает, что на территории монастыря имеется заброшенный пруд в форме стопы Богородицы, вокруг которого совершают молитвенные прогулки с обращениями к самой небесной Царице!\n\n*Стоимость участия: 3500 рублей.*\nНе упустите возможность прикоснуться к святыне и получить духовную поддержку от Матушки Ефврасиньи.\nПаломничество — это не только путешествие, но и глубокое внутреннее преображение. Записывайтесь заранее, места ограничены!\n❤️ Туры организованные из Москвы и Ярославля.\nУточняйте наличие мест по телефону Туры будут проходить из Ярославля в пятницу 30 Августа. (Пятница) Из Москвы 31 Августа (суббота).\nВ стоимость входит трансфер в обе стороны. Встреча с Матушкой. Питание, записки, свечи в стоимость не входят!\nПодробности по телефону +7 968 527 89 34 (Telegram, WhatsApp)\n\n#МатушкаЕфврасинья #Паломничество #ГорицкийМонастырь #ДуховнаяПоддержка #Наставления #Отмалевание #СемейныеГрехи​

X-ALT-DESC;FMTTYPE=text/html:<!DOCTYPE HTML PUBLIC "-//W3C//DTD HTML 3.2//EN">\n<HTML>\n<HEAD>\n<META NAME="Generator" CONTENT="MS Exchange Server version 08.00.0681.000">\n<TITLE></TITLE>\n</HEAD>\n<BODY>\n<!-- Converted from text/rtf format -->\n\nДорогие братья и сестры! Приглашаем вас в удивительное путешествие к Матушке Ефврасинье, которая с любовью принимает всех без исключения. Она знает, как важно каждому из нас найти поддержку и понимание в трудные времена. Матушка не только выслушает ваши проблемы, но и даст мудрые наставления, помогая разобраться в грехах нашего рода.<br />*Путь к очищению*<br />Матушка Ефврасинья щедро принимает на себя отмаливание семей от грехов рода, разбирая их с любовью и терпением. Она поможет составить древо вашего рода, указав на то, что требует большего внимания для исцеления и избавления от существующих проблем. Матушка дарит надежду и возможность начать новую жизнь, свободную от тяжести прошлого. Матушке можно донести свои переживания и получить ценные советы. Вы сможете так же оставить записки с просьбами о помощи.<br />️ *Горицкий Успенский монастырь* ️<br />В рамках наших паломнических туров мы организуем поездки в Горицкий Успенский монастырь в Переславле-Залесском. Здесь почти 2 года мироточили 12 икон, слух о которых уже распространился за пределы территории России. Горецкий монастырь сохраняет в себе древнейшую историю Руси, олицетворяя времена великих царей. Мало кто знает, что на территории монастыря имеется заброшенный пруд в форме стопы Богородицы, вокруг которого совершают молитвенные прогулки с обращениями к самой небесной Царице!<br /><br />*Стоимость участия: 3500 рублей.*<br />Не упустите возможность прикоснуться к святыне и получить духовную поддержку от Матушки Ефврасиньи.<br />Паломничество — это не только путешествие, но и глубокое внутреннее преображение. Записывайтесь заранее, места ограничены!<br />❤️ Туры организованные из Москвы и Ярославля.<br />Уточняйте наличие мест по телефону Туры будут проходить из Ярославля в пятницу 30 Августа. (Пятница) Из Москвы 31 Августа (суббота).<br />В стоимость входит трансфер в обе стороны. Встреча с Матушкой. Питание, записки, свечи в стоимость не входят!<br />Подробности по телефону +7 968 527 89 34 (Telegram, WhatsApp)<br /><br />#МатушкаЕфврасинья #Паломничество #ГорицкийМонастырь #ДуховнаяПоддержка #Наставления #Отмалевание #СемейныеГрехи​\n\n</BODY>\n</HTML>

LOCATION:Ярославль, Ярославская обл., Россия
END:VEVENT

END:VCALENDAR
